BEGIN:VCALENDAR
VERSION:2.0
PRODID:-//Cineclube Torres - ECPv6.15.19//NONSGML v1.0//EN
CALSCALE:GREGORIAN
METHOD:PUBLISH
X-WR-CALNAME:Cineclube Torres
X-ORIGINAL-URL:https://cineclubetorres.org
X-WR-CALDESC:Eventos para Cineclube Torres
REFRESH-INTERVAL;VALUE=DURATION:PT1H
X-Robots-Tag:noindex
X-PUBLISHED-TTL:PT1H
BEGIN:VTIMEZONE
TZID:America/Sao_Paulo
BEGIN:STANDARD
TZOFFSETFROM:-0300
TZOFFSETTO:-0300
TZNAME:-03
DTSTART:20240101T000000
END:STANDARD
END:VTIMEZONE
BEGIN:VEVENT
DTSTART;TZID=America/Sao_Paulo:20250203T200000
DTEND;TZID=America/Sao_Paulo:20250203T220000
DTSTAMP:20260424T133858
CREATED:20250131T234918Z
LAST-MODIFIED:20250203T175156Z
UID:2053-1738612800-1738620000@cineclubetorres.org
SUMMARY:Mosquito
DESCRIPTION:“Mosquito” | 2020 | PORTUGAL | Zacarias é um jovem soldado português sedento por viver grandes aventuras heroicas em durante a Primeira Guerra Mundial em Moçambique. Abandonado pelo seu pelotão\, parte numa longa odisseia mato adentro\, à procura da guerra e dos seus sonhos de glória. Diretor: João Nuno Pinto.
URL:https://cineclubetorres.org/sessoes/2053/
LOCATION:Sala Audiovisual Gilda e Leonardo\, Rua Cincinato Borges\, 420\, Torres\, Rio Grande do Sul\, 95560-000\, Brazil
CATEGORIES:Filme
ATTACH;FMTTYPE=image/jpeg:https://cineclubetorres.org/wp-content/uploads/2025/01/mosquito.jpg
ORGANIZER;CN="Cineclube Torres":MAILTO:contato@cineclubetorres.org
END:VEVENT
BEGIN:VEVENT
DTSTART;TZID=America/Sao_Paulo:20250210T200000
DTEND;TZID=America/Sao_Paulo:20250210T220000
DTSTAMP:20260424T133858
CREATED:20250203T175251Z
LAST-MODIFIED:20250203T175549Z
UID:2062-1739217600-1739224800@cineclubetorres.org
SUMMARY:Os Colonos
DESCRIPTION:“Os Colonos” | 2024 | CHILE |Um chileno mestiço cavalga para o sul em uma expedição liderada por um ex-capitão inglês e um mercenário norte-americano\, para cercar terras concedidas a um rico proprietário espanhol\, José Menéndez. Os Colonos é um western revisionista que explora os temas da colonização\, da violência e do extermínio sofrido pela população indígena. Diretor: Felipe Gálvez Haberle.
URL:https://cineclubetorres.org/sessoes/os-colonos/
LOCATION:Sala Audiovisual Gilda e Leonardo\, Rua Cincinato Borges\, 420\, Torres\, Rio Grande do Sul\, 95560-000\, Brazil
CATEGORIES:Filme
ATTACH;FMTTYPE=image/jpeg:https://cineclubetorres.org/wp-content/uploads/2025/02/20240410-los-colonos-papo-de-cinema-e1712776304631-750x365-1.jpg
ORGANIZER;CN="Cineclube Torres":MAILTO:contato@cineclubetorres.org
END:VEVENT
BEGIN:VEVENT
DTSTART;TZID=America/Sao_Paulo:20250217T200000
DTEND;TZID=America/Sao_Paulo:20250217T220000
DTSTAMP:20260424T133858
CREATED:20250203T175739Z
LAST-MODIFIED:20250203T175739Z
UID:2075-1739822400-1739829600@cineclubetorres.org
SUMMARY:A Camareira
DESCRIPTION:“A Camareira” | 2019 | MÉXICO | Vencedor do melhor filme de estreia do Prêmio Platino de Cinema Ibero-Americano de 2020. Em um hotel de luxo na Cidade do México\, Eve\, uma jovem de 24 anos\, trabalha como camareira. Ela logo percebe\, porém\, que nem sempre quem faz o trabalho pesado é recompensado. Diretora: Lila Avilés.
URL:https://cineclubetorres.org/sessoes/a-camareira/
LOCATION:Sala Audiovisual Gilda e Leonardo\, Rua Cincinato Borges\, 420\, Torres\, Rio Grande do Sul\, 95560-000\, Brazil
CATEGORIES:Filme
ATTACH;FMTTYPE=image/jpeg:https://cineclubetorres.org/wp-content/uploads/2025/02/Filme_A-Camareira_blog.jpg
ORGANIZER;CN="Cineclube Torres":MAILTO:contato@cineclubetorres.org
END:VEVENT
BEGIN:VEVENT
DTSTART;TZID=America/Sao_Paulo:20250224T200000
DTEND;TZID=America/Sao_Paulo:20250224T220000
DTSTAMP:20260424T133858
CREATED:20250203T180028Z
LAST-MODIFIED:20250203T180028Z
UID:2077-1740427200-1740434400@cineclubetorres.org
SUMMARY:Família Submersa
DESCRIPTION:“Família Submersa” | 2018 | ARGENTINA | A irmã e companheira de Marcela\, Rina\, morre subitamente\, deixando-a triste e perturbada. Seu velório é marcado por conversas sobre o passado que incomodam Marcela. Produção intimista\, explorando os processos de luto e superação. Diretora: María Alché.
URL:https://cineclubetorres.org/sessoes/familia-submersa/
LOCATION:Sala Audiovisual Gilda e Leonardo\, Rua Cincinato Borges\, 420\, Torres\, Rio Grande do Sul\, 95560-000\, Brazil
CATEGORIES:Filme
ATTACH;FMTTYPE=image/jpeg:https://cineclubetorres.org/wp-content/uploads/2025/02/familia-sub-1.jpg
ORGANIZER;CN="Cineclube Torres":MAILTO:contato@cineclubetorres.org
END:VEVENT
END:VCALENDAR