BEGIN:VCALENDAR
VERSION:2.0
PRODID:-//Cineclube Torres - ECPv6.15.19//NONSGML v1.0//EN
CALSCALE:GREGORIAN
METHOD:PUBLISH
X-WR-CALNAME:Cineclube Torres
X-ORIGINAL-URL:https://cineclubetorres.org
X-WR-CALDESC:Eventos para Cineclube Torres
REFRESH-INTERVAL;VALUE=DURATION:PT1H
X-Robots-Tag:noindex
X-PUBLISHED-TTL:PT1H
BEGIN:VTIMEZONE
TZID:America/Sao_Paulo
BEGIN:STANDARD
TZOFFSETFROM:-0300
TZOFFSETTO:-0300
TZNAME:-03
DTSTART:20250101T000000
END:STANDARD
END:VTIMEZONE
BEGIN:VEVENT
DTSTART;TZID=America/Sao_Paulo:20260407T080000
DTEND;TZID=America/Sao_Paulo:20260407T170000
DTSTAMP:20260423T171313
CREATED:20260407T235655Z
LAST-MODIFIED:20260408T001220Z
UID:2462-1775548800-1775581200@cineclubetorres.org
SUMMARY:A Livraria
DESCRIPTION:“A Livraria” de Isabel Coixet  | 2018 | Alemanha/Espanha/Reino Unido | Uma viúva que decide reconstruir sua vida e\, para isso\, resolve abrir uma livraria\, apesar da oposição da população do vilarejo onde vive\, na Inglaterra\, em 1950.
URL:https://cineclubetorres.org/sessoes/a-livraria/
LOCATION:Rio Grande do Sul
CATEGORIES:Filme
END:VEVENT
BEGIN:VEVENT
DTSTART;TZID=America/Sao_Paulo:20260413T200000
DTEND;TZID=America/Sao_Paulo:20260413T220000
DTSTAMP:20260423T171313
CREATED:20260408T001106Z
LAST-MODIFIED:20260408T001130Z
UID:2465-1776110400-1776117600@cineclubetorres.org
SUMMARY:Livros Restantes
DESCRIPTION:“Livros Restantes” de Marcia Paraiso  | 2025 | Brasil | Cinco livros na estante é o que restou de todas as coisas que Ana Catarina teve que desapegar antes da mudança para Portugal. Com dedicatórias\, cheiros e marcas\, Ana não consegue doá-los e decide devolvê-los para quem a presenteou.
URL:https://cineclubetorres.org/sessoes/livros-restantes/
LOCATION:Sala Audiovisual Gilda e Leonardo\, Rua Cincinato Borges\, 420\, Torres\, Rio Grande do Sul\, 95560-000\, Brazil
CATEGORIES:Filme
ATTACH;FMTTYPE=image/jpeg:https://cineclubetorres.org/wp-content/uploads/2026/04/7970dc482afe8025e0b98a49128cf0d68913b2bc6798a3148ee2a1c2465df8fd.jpg
ORGANIZER;CN="Cineclube Torres":MAILTO:contato@cineclubetorres.org
END:VEVENT
BEGIN:VEVENT
DTSTART;TZID=America/Sao_Paulo:20260420T200000
DTEND;TZID=America/Sao_Paulo:20260420T220000
DTSTAMP:20260423T171313
CREATED:20260408T001534Z
LAST-MODIFIED:20260408T001632Z
UID:2469-1776715200-1776722400@cineclubetorres.org
SUMMARY:Minhas Tardes com Margueritte
DESCRIPTION:“Minhas Tardes com Margueritte” de Jean Becker  | 2010 | França | O auxiliar geral chamado Germaine faz amizade com uma mulher de 95 anos e fica intrigado com o prazer que ela sente pela literatura.
URL:https://cineclubetorres.org/sessoes/minhas-tardes-com-margueritte/
LOCATION:Sala Audiovisual Gilda e Leonardo\, Rua Cincinato Borges\, 420\, Torres\, Rio Grande do Sul\, 95560-000\, Brazil
CATEGORIES:Filme
ATTACH;FMTTYPE=image/png:https://cineclubetorres.org/wp-content/uploads/2026/04/86a0d623bf8a780eead5803bcf8d8b1210556f8683419dedff9a03652995fa0e._SX1080_FMpng_.png
ORGANIZER;CN="Cineclube Torres":MAILTO:contato@cineclubetorres.org
END:VEVENT
BEGIN:VEVENT
DTSTART;TZID=America/Sao_Paulo:20260427T200000
DTEND;TZID=America/Sao_Paulo:20260427T220000
DTSTAMP:20260423T171313
CREATED:20260408T002028Z
LAST-MODIFIED:20260408T002028Z
UID:2472-1777320000-1777327200@cineclubetorres.org
SUMMARY:O Clube de Leitura de Jane Austen
DESCRIPTION:“O Clube de Leitura de Jane Austen” de Robin Swicord | 2007 | EUA | Cinco mulheres e um homem formam um grupo de leitura dedicado a estudar os trabalhos de uma autora do século 19. Enquanto cada um deles passa por desafios diferentes\, eles também encontram semelhanças inesperadas no livro.
URL:https://cineclubetorres.org/sessoes/o-clube-de-leitura-de-jane-austen/
LOCATION:Sala Audiovisual Gilda e Leonardo\, Rua Cincinato Borges\, 420\, Torres\, Rio Grande do Sul\, 95560-000\, Brazil
ATTACH;FMTTYPE=image/jpeg:https://cineclubetorres.org/wp-content/uploads/2026/04/20180619-maxresdefault.jpg
ORGANIZER;CN="Cineclube Torres":MAILTO:contato@cineclubetorres.org
END:VEVENT
END:VCALENDAR