BEGIN:VCALENDAR
VERSION:2.0
PRODID:-//Cineclube Torres - ECPv6.15.19//NONSGML v1.0//EN
CALSCALE:GREGORIAN
METHOD:PUBLISH
X-ORIGINAL-URL:https://cineclubetorres.org
X-WR-CALDESC:Eventos para Cineclube Torres
REFRESH-INTERVAL;VALUE=DURATION:PT1H
X-Robots-Tag:noindex
X-PUBLISHED-TTL:PT1H
BEGIN:VTIMEZONE
TZID:America/Sao_Paulo
BEGIN:STANDARD
TZOFFSETFROM:-0300
TZOFFSETTO:-0300
TZNAME:-03
DTSTART:20230101T000000
END:STANDARD
END:VTIMEZONE
BEGIN:VEVENT
DTSTART;TZID=America/Sao_Paulo:20250811T193000
DTEND;TZID=America/Sao_Paulo:20250811T220000
DTSTAMP:20260423T161300
CREATED:20250815T201407Z
LAST-MODIFIED:20250815T201407Z
UID:2216-1754940600-1754949600@cineclubetorres.org
SUMMARY:Druk - Mais uma rodada
DESCRIPTION:“Druk – Mais uma rodada” de Thomas Vinterberg | 2020 | Dinamarca | Para alegrar um amigo em crise\, um grupo de professores decide testar a ousada teoria de que serão mais felizes e bem-sucedidos vivendo com um pouco de álcool no sangue.\nSessão comemorativa dos 14 anos do Cineclube Torres.
URL:https://cineclubetorres.org/sessoes/druk-mais-uma-rodada/
LOCATION:Sala Audiovisual Gilda e Leonardo\, Rua Cincinato Borges\, 420\, Torres\, Rio Grande do Sul\, 95560-000\, Brazil
CATEGORIES:Filme
ATTACH;FMTTYPE=image/jpeg:https://cineclubetorres.org/wp-content/uploads/2025/08/druk-capa.jpg
ORGANIZER;CN="Cineclube Torres":MAILTO:contato@cineclubetorres.org
END:VEVENT
BEGIN:VEVENT
DTSTART;TZID=America/Sao_Paulo:20250728T200000
DTEND;TZID=America/Sao_Paulo:20250728T220000
DTSTAMP:20260423T161300
CREATED:20250720T135148Z
LAST-MODIFIED:20250720T135228Z
UID:2190-1753732800-1753740000@cineclubetorres.org
SUMMARY:Era o Hotel Cambridge
DESCRIPTION:“Era o Hotel Cambridge” de Eliane Caffé | 2016 | Brasil | Refugiados recém-chegados ao Brasil dividem com um grupo de sem-tetos um velho edifício abandonado no centro de São Paulo.
URL:https://cineclubetorres.org/sessoes/era-o-hotel-cambridge/
LOCATION:Sala Audiovisual Gilda e Leonardo\, Rua Cincinato Borges\, 420\, Torres\, Rio Grande do Sul\, 95560-000\, Brazil
CATEGORIES:Filme
ATTACH;FMTTYPE=image/jpeg:https://cineclubetorres.org/wp-content/uploads/2025/07/h_cambridge72dpi15.jpg
ORGANIZER;CN="Cineclube Torres":MAILTO:contato@cineclubetorres.org
END:VEVENT
BEGIN:VEVENT
DTSTART;TZID=America/Sao_Paulo:20250721T200000
DTEND;TZID=America/Sao_Paulo:20250721T220000
DTSTAMP:20260423T161300
CREATED:20250720T134338Z
LAST-MODIFIED:20250720T135642Z
UID:2185-1753128000-1753135200@cineclubetorres.org
SUMMARY:A Lenda do Santo Beberrão
DESCRIPTION:“A Lenda do Santo Beberrão” de Ermanno Olmi | 1988 | Itália | Um morador de rua alcoólatra ganha de um homem misterioso uma enorme quantia de dinheiro. A única condição que o estranho lhe dá é a de entregar a quantia para a igreja de S.Tereza.
URL:https://cineclubetorres.org/sessoes/a-lenda-do-santo-beberrao/
LOCATION:Sala Audiovisual Gilda e Leonardo\, Rua Cincinato Borges\, 420\, Torres\, Rio Grande do Sul\, 95560-000\, Brazil
CATEGORIES:Filme
ATTACH;FMTTYPE=image/jpeg:https://cineclubetorres.org/wp-content/uploads/2025/07/legend2.jpg
ORGANIZER;CN="Cineclube Torres":MAILTO:contato@cineclubetorres.org
END:VEVENT
BEGIN:VEVENT
DTSTART;TZID=America/Sao_Paulo:20250714T200000
DTEND;TZID=America/Sao_Paulo:20250714T220000
DTSTAMP:20260423T161300
CREATED:20250720T135518Z
LAST-MODIFIED:20250720T135518Z
UID:2193-1752523200-1752530400@cineclubetorres.org
SUMMARY:Sem Teto Nem Lei
DESCRIPTION:“Sem Teto Nem Lei” de Agnès Varda | 1985 | França | É inverno no sul da França e o corpo de uma jovem é encontrado em um fosso. Mona era uma andarilha e passou seus últimos dias andando pelas estradas. Aqueles com quem Mona cruzou\, conheceu ou conversou são os que contam quem ela era e o que houve.
URL:https://cineclubetorres.org/sessoes/sem-teto-nem-lei/
LOCATION:Sala Audiovisual Gilda e Leonardo\, Rua Cincinato Borges\, 420\, Torres\, Rio Grande do Sul\, 95560-000\, Brazil
CATEGORIES:Filme
ATTACH;FMTTYPE=image/webp:https://cineclubetorres.org/wp-content/uploads/2025/07/8Hv7LFUxo1FIITsp5UEnS1CWA5C-1536x864.jpg.webp
ORGANIZER;CN="Cineclube Torres":MAILTO:contato@cineclubetorres.org
END:VEVENT
BEGIN:VEVENT
DTSTART;TZID=America/Sao_Paulo:20250707T220000
DTEND;TZID=America/Sao_Paulo:20250707T220000
DTSTAMP:20260423T161300
CREATED:20250720T140153Z
LAST-MODIFIED:20250720T140153Z
UID:2197-1751925600-1751925600@cineclubetorres.org
SUMMARY:Os Amantes do Ponte Neuf
DESCRIPTION:“Os Amantes do Ponte Neuf” de Leos Carax | 1992 | França | Um viciado sem-teto e uma jovem pintora com deficiência visual se apaixonam e lutam para sobreviver debaixo da ponte Pont-Neuf\, em Paris.
URL:https://cineclubetorres.org/sessoes/os-amantes-do-ponte-neuf/
LOCATION:Sala Audiovisual Gilda e Leonardo\, Rua Cincinato Borges\, 420\, Torres\, Rio Grande do Sul\, 95560-000\, Brazil
CATEGORIES:Filme
ATTACH;FMTTYPE=image/webp:https://cineclubetorres.org/wp-content/uploads/2025/07/osamantesdepontneuf02.webp
ORGANIZER;CN="Cineclube Torres":MAILTO:contato@cineclubetorres.org
END:VEVENT
BEGIN:VEVENT
DTSTART;TZID=America/Sao_Paulo:20250630T200000
DTEND;TZID=America/Sao_Paulo:20250630T220000
DTSTAMP:20260423T161300
CREATED:20250815T203924Z
LAST-MODIFIED:20250815T204103Z
UID:2233-1751313600-1751320800@cineclubetorres.org
SUMMARY:9 – A Salvação
DESCRIPTION:“9 – A Salvação” de Shane Arker | 2009 | EUA | Quando o boneco 9 (Elijah Wood) ganha vida se vê em um mundo pós apocalíptico em que humanos não mais existem. Os únicos sinais de vida são bonecos como ele\, que são caçados por máquinas.
URL:https://cineclubetorres.org/sessoes/9-a-salvacao/
LOCATION:Sala Audiovisual Gilda e Leonardo\, Rua Cincinato Borges\, 420\, Torres\, Rio Grande do Sul\, 95560-000\, Brazil
ATTACH;FMTTYPE=image/jpeg:https://cineclubetorres.org/wp-content/uploads/2025/08/9-a-salvacao.jpg
ORGANIZER;CN="Cineclube Torres":MAILTO:contato@cineclubetorres.org
END:VEVENT
BEGIN:VEVENT
DTSTART;TZID=America/Sao_Paulo:20250623T200000
DTEND;TZID=America/Sao_Paulo:20250623T220000
DTSTAMP:20260423T161300
CREATED:20250815T203721Z
LAST-MODIFIED:20250815T203721Z
UID:2230-1750708800-1750716000@cineclubetorres.org
SUMMARY:Matrix
DESCRIPTION:“Matrix” de Lana e Lilly Wachowski | 1999 | EUA | O jovem programador Thomas Anderson é atormentado por estranhos pesadelos em que está sempre conectado por cabos a um imenso sistema de computadores do futuro.
URL:https://cineclubetorres.org/sessoes/matrix/
LOCATION:Sala Audiovisual Gilda e Leonardo\, Rua Cincinato Borges\, 420\, Torres\, Rio Grande do Sul\, 95560-000\, Brazil
CATEGORIES:Filme
ATTACH;FMTTYPE=image/jpeg:https://cineclubetorres.org/wp-content/uploads/2025/08/Carrie-Anne-Moss-Keanu-Reeves-Lawrence-Fishburne.jpg
ORGANIZER;CN="Cineclube Torres":MAILTO:contato@cineclubetorres.org
END:VEVENT
BEGIN:VEVENT
DTSTART;TZID=America/Sao_Paulo:20250609T200000
DTEND;TZID=America/Sao_Paulo:20250609T220000
DTSTAMP:20260423T161300
CREATED:20250815T203348Z
LAST-MODIFIED:20250815T203348Z
UID:2227-1749499200-1749506400@cineclubetorres.org
SUMMARY:Blade Runner
DESCRIPTION:“Blade Runner” de Ridley Scott | 1982 | EUA | Los Angeles\, 2029\, um ex-policial é acionado para caçar um grupo fugitivo de clones humanos\, criados para serem usados como escravos em colônias fora da Terra.
URL:https://cineclubetorres.org/sessoes/blade-runner/
LOCATION:Sala Audiovisual Gilda e Leonardo\, Rua Cincinato Borges\, 420\, Torres\, Rio Grande do Sul\, 95560-000\, Brazil
CATEGORIES:Filme
ATTACH;FMTTYPE=image/webp:https://cineclubetorres.org/wp-content/uploads/2025/08/blade-runner-movie-harrison-ford-1982.webp
ORGANIZER;CN="Cineclube Torres":MAILTO:contato@cineclubetorres.org
END:VEVENT
BEGIN:VEVENT
DTSTART;TZID=America/Sao_Paulo:20250609T200000
DTEND;TZID=America/Sao_Paulo:20250609T220000
DTSTAMP:20260423T161300
CREATED:20250608T231128Z
LAST-MODIFIED:20250608T231128Z
UID:2180-1749499200-1749506400@cineclubetorres.org
SUMMARY:Ela
DESCRIPTION:Ela | EUA | 2013 | Numa Los Angeles de um futuro tão próximo que hoje se confunde com a realidade atual\, um solitário escritor\, interpretado pelo Joaquin Phoenix\, desenvolve uma relação especial com o novo sistema operacional do seu computador.
URL:https://cineclubetorres.org/sessoes/ela/
LOCATION:Sala Audiovisual Gilda e Leonardo\, Rua Cincinato Borges\, 420\, Torres\, Rio Grande do Sul\, 95560-000\, Brazil
CATEGORIES:Filme
ATTACH;FMTTYPE=image/jpeg:https://cineclubetorres.org/wp-content/uploads/2025/06/joaquin-phoenix-em-cena-no-filme-ela-2013-1527900246883_v2_900x506.jpg
ORGANIZER;CN="Cineclube Torres":MAILTO:contato@cineclubetorres.org
END:VEVENT
BEGIN:VEVENT
DTSTART;TZID=America/Sao_Paulo:20250602T200000
DTEND;TZID=America/Sao_Paulo:20250602T220000
DTSTAMP:20260423T161300
CREATED:20250815T202953Z
LAST-MODIFIED:20250815T203417Z
UID:2224-1748894400-1748901600@cineclubetorres.org
SUMMARY:O Sal da Terra
DESCRIPTION:“O Sal da Terra” de Wim Wenders | 2014 | Alemanha | A trajetória do renomado fotógrafo brasileiro Sebastião Salgado\, desde seus primeiros trabalhos em Serra Pelada\, o registro da miséria na África e no Nordeste do Brasil até sua obra-prima\, “Gênesis”.
URL:https://cineclubetorres.org/sessoes/o-sal-da-terra/
LOCATION:Sala Audiovisual Gilda e Leonardo\, Rua Cincinato Borges\, 420\, Torres\, Rio Grande do Sul\, 95560-000\, Brazil
CATEGORIES:Filme
ATTACH;FMTTYPE=image/jpeg:https://cineclubetorres.org/wp-content/uploads/2025/08/2119892_e.jpg
ORGANIZER;CN="Cineclube Torres":MAILTO:contato@cineclubetorres.org
END:VEVENT
BEGIN:VEVENT
DTSTART;TZID=America/Sao_Paulo:20250428T200000
DTEND;TZID=America/Sao_Paulo:20250428T230000
DTSTAMP:20260423T161300
CREATED:20250408T231625Z
LAST-MODIFIED:20250408T231625Z
UID:2170-1745870400-1745881200@cineclubetorres.org
SUMMARY:Nomadland
DESCRIPTION:“Nomadland” | 2021 | EUA | Uma mulher na casa dos 60 anos que\, depois de perder tudo na crise econômica\, entra na sua van e parte para a estrada\, vivendo uma vida fora da sociedade convencional como uma nômade moderna.
URL:https://cineclubetorres.org/sessoes/nomadland/
LOCATION:Sala Audiovisual Gilda e Leonardo\, Rua Cincinato Borges\, 420\, Torres\, Rio Grande do Sul\, 95560-000\, Brazil
CATEGORIES:Filme
ATTACH;FMTTYPE=image/jpeg:https://cineclubetorres.org/wp-content/uploads/2025/04/nomadland-feat.jpg
ORGANIZER;CN="Cineclube Torres":MAILTO:contato@cineclubetorres.org
END:VEVENT
BEGIN:VEVENT
DTSTART;TZID=America/Sao_Paulo:20250421T200000
DTEND;TZID=America/Sao_Paulo:20250421T230000
DTSTAMP:20260423T161300
CREATED:20250408T231034Z
LAST-MODIFIED:20250408T231130Z
UID:2167-1745265600-1745276400@cineclubetorres.org
SUMMARY:Playtime - Tempo de Diversão
DESCRIPTION:“Playtime – Tempo de Diversão” | 1967 | FRANÇA | Monsieur Hulot chega a Paris\, paralelamente à viagem de um grupo de turistas norte-americanos\, para falar com um funcionário de uma empresa\, mas se perde no labirinto tecnológico da cidade.
URL:https://cineclubetorres.org/sessoes/playtime-tempo-de-diversao/
LOCATION:Sala Audiovisual Gilda e Leonardo\, Rua Cincinato Borges\, 420\, Torres\, Rio Grande do Sul\, 95560-000\, Brazil
ATTACH;FMTTYPE=image/jpeg:https://cineclubetorres.org/wp-content/uploads/2025/04/image-w1280-1.jpg
ORGANIZER;CN="Cineclube Torres":MAILTO:contato@cineclubetorres.org
END:VEVENT
BEGIN:VEVENT
DTSTART;TZID=America/Sao_Paulo:20250414T200000
DTEND;TZID=America/Sao_Paulo:20250414T230000
DTSTAMP:20260423T161300
CREATED:20250408T230004Z
LAST-MODIFIED:20250408T230004Z
UID:2164-1744660800-1744671600@cineclubetorres.org
SUMMARY:Dias Perfeitos
DESCRIPTION:“Dias Perfeitos” | 2023 | JAPÃO/ALEMANHA | Hirayama leva uma vida feliz\, conciliando seu trabalho como zelador dos banheiros públicos de Tóquio com sua paixão por música\, literatura e fotografia. Sua rotina estruturada é lentamente interrompida por encontros inesperados.
URL:https://cineclubetorres.org/sessoes/dias-perfeitos/
LOCATION:Sala Audiovisual Gilda e Leonardo\, Rua Cincinato Borges\, 420\, Torres\, Rio Grande do Sul\, 95560-000\, Brazil
CATEGORIES:Filme
ATTACH;FMTTYPE=image/jpeg:https://cineclubetorres.org/wp-content/uploads/2025/04/image-w1280.jpg
ORGANIZER;CN="Cineclube Torres":MAILTO:contato@cineclubetorres.org
END:VEVENT
BEGIN:VEVENT
DTSTART;TZID=America/Sao_Paulo:20250407T200000
DTEND;TZID=America/Sao_Paulo:20250407T230000
DTSTAMP:20260423T161300
CREATED:20250408T225656Z
LAST-MODIFIED:20250408T225656Z
UID:2161-1744056000-1744066800@cineclubetorres.org
SUMMARY:A Era da Estupidez
DESCRIPTION:“A Era da Estupidez” | 2009 | REINO UNIDO | Um arquivista do futuro analisa registros audiovisuais do passado para tentar entender por que a humanidade falhou na luta contra as mudanças climáticas e o aquecimento global.
URL:https://cineclubetorres.org/sessoes/a-era-da-estupidez/
LOCATION:Sala Audiovisual Gilda e Leonardo\, Rua Cincinato Borges\, 420\, Torres\, Rio Grande do Sul\, 95560-000\, Brazil
CATEGORIES:Filme
ATTACH;FMTTYPE=image/jpeg:https://cineclubetorres.org/wp-content/uploads/2025/04/filmes_788_A-Era-da-Estupidez-1-1.jpg
ORGANIZER;CN="Cineclube Torres":MAILTO:contato@cineclubetorres.org
END:VEVENT
BEGIN:VEVENT
DTSTART;TZID=America/Sao_Paulo:20250331T200000
DTEND;TZID=America/Sao_Paulo:20250331T220000
DTSTAMP:20260423T161300
CREATED:20250203T181146Z
LAST-MODIFIED:20250203T181241Z
UID:2089-1743451200-1743458400@cineclubetorres.org
SUMMARY:Tatuagem
DESCRIPTION:“Tatuagem” | 2013 | BRASIL | Um jovem militar (Jesuíta Barbosa) visita uma comunidade onde vive e atua um familiar\, ficando encantado com o universo criado pela companhia e com seu líder Clécio (Irandhir Santos). Grande história de uma trupe que mesmo durante a ditadura dos anos 70 criou em Recife o “Chão de Estrelas”\, uma equipe de teatro onde vivem o amor livre e a paixão pela arte. Diretor: Hilton Lacerda. \nSessão Especial “31/3 – Ditadura Nunca Mais”
URL:https://cineclubetorres.org/sessoes/tatuagem/
LOCATION:Sala Audiovisual Gilda e Leonardo\, Rua Cincinato Borges\, 420\, Torres\, Rio Grande do Sul\, 95560-000\, Brazil
CATEGORIES:Filme
ATTACH;FMTTYPE=image/jpeg:https://cineclubetorres.org/wp-content/uploads/2025/02/tatuagem02.jpg
ORGANIZER;CN="Cineclube Torres":MAILTO:contato@cineclubetorres.org
END:VEVENT
BEGIN:VEVENT
DTSTART;TZID=America/Sao_Paulo:20250324T080000
DTEND;TZID=America/Sao_Paulo:20250324T220000
DTSTAMP:20260423T161300
CREATED:20250203T180924Z
LAST-MODIFIED:20250203T180924Z
UID:2087-1742803200-1742853600@cineclubetorres.org
SUMMARY:El Amparo
DESCRIPTION:“El Amparo” | 2016 | VENEZUELA | Em El Amparo\, na localidade fronteiriça da Venezuela com a Colômbia\, dois homens sobrevivem a uma chacina perpetrada por tropas numa embarcação no rio Arauca. Os homens dizem que são simples pescadores\, mas a pressão para que cedam à versão oficial é avassaladora. Diretor: Rober Calzadilla.
URL:https://cineclubetorres.org/sessoes/el-amparo/
LOCATION:Sala Audiovisual Gilda e Leonardo\, Rua Cincinato Borges\, 420\, Torres\, Rio Grande do Sul\, 95560-000\, Brazil
CATEGORIES:Filme
ATTACH;FMTTYPE=image/jpeg:https://cineclubetorres.org/wp-content/uploads/2025/02/el-amparo-02.jpg
ORGANIZER;CN="Cineclube Torres":MAILTO:contato@cineclubetorres.org
END:VEVENT
BEGIN:VEVENT
DTSTART;TZID=America/Sao_Paulo:20250317T200000
DTEND;TZID=America/Sao_Paulo:20250317T220000
DTSTAMP:20260423T161300
CREATED:20250203T180756Z
LAST-MODIFIED:20250203T180756Z
UID:2085-1742241600-1742248800@cineclubetorres.org
SUMMARY:Os Tubarões
DESCRIPTION:“Os Tubarões” | 2019 | URUGUAI | Em uma pequena cidade litorânea relatos de avistamentos de tubarões criam pânico na região. Enquanto isso\, a adolescente Rosina começa a caçar suas próprias presas à medida que sua atração intensa por um colega de trabalho mais velho aumenta. Diretora: Lucia Garibaldi.
URL:https://cineclubetorres.org/sessoes/os-tubaroes/
LOCATION:Sala Audiovisual Gilda e Leonardo\, Rua Cincinato Borges\, 420\, Torres\, Rio Grande do Sul\, 95560-000\, Brazil
CATEGORIES:Filme
ATTACH;FMTTYPE=image/jpeg:https://cineclubetorres.org/wp-content/uploads/2025/02/REV-TheSharks-1.jpg
ORGANIZER;CN="Cineclube Torres":MAILTO:contato@cineclubetorres.org
END:VEVENT
BEGIN:VEVENT
DTSTART;TZID=America/Sao_Paulo:20250310T200000
DTEND;TZID=America/Sao_Paulo:20250310T220000
DTSTAMP:20260423T161300
CREATED:20250203T180615Z
LAST-MODIFIED:20250203T180615Z
UID:2082-1741636800-1741644000@cineclubetorres.org
SUMMARY:Alcarràs
DESCRIPTION:“Alcarràs” | 2022 | ESPANHA | Em uma pequena aldeia catalã\, os produtores de pêssego da família Solé passam todos os verões juntos colhendo frutas de seu pomar. Mas quando surgem novos planos de instalar painéis solares e cortar árvores\, esse grupo enfrenta o despejo. Diretora: Carla Simón.
URL:https://cineclubetorres.org/sessoes/alcarras/
LOCATION:Sala Audiovisual Gilda e Leonardo\, Rua Cincinato Borges\, 420\, Torres\, Rio Grande do Sul\, 95560-000\, Brazil
CATEGORIES:Filme
ATTACH;FMTTYPE=image/jpeg:https://cineclubetorres.org/wp-content/uploads/2025/02/1_alcarras_still1__c_lluistudela-21282578.jpg
ORGANIZER;CN="Cineclube Torres":MAILTO:contato@cineclubetorres.org
END:VEVENT
BEGIN:VEVENT
DTSTART;TZID=America/Sao_Paulo:20250303T200000
DTEND;TZID=America/Sao_Paulo:20250303T220000
DTSTAMP:20260423T161300
CREATED:20250203T180244Z
LAST-MODIFIED:20250203T181332Z
UID:2080-1741032000-1741039200@cineclubetorres.org
SUMMARY:Rosa Chumbe
DESCRIPTION:“Rosa Chumbe” | 2017 | PERU | Rosa Chumbe é um filme de drama peruano de 2017\, dirigido e escrito por Jonatan Relayze\, selecionado como representante de seu país aos Oscar de 2018. Policial veterana com problemas de jogo e bebida\, Rosa mora com a sua filha e o seu neto. Um dia\, depois de uma briga homérica\, a jovem sai de casa deixando Rosa e a criança para trás. Diretor: Jonatan Relayze. \nSessão Especial “Dia Internacional da Mulher”
URL:https://cineclubetorres.org/sessoes/rosa-chumbe/
LOCATION:Sala Audiovisual Gilda e Leonardo\, Rua Cincinato Borges\, 420\, Torres\, Rio Grande do Sul\, 95560-000\, Brazil
CATEGORIES:Filme
ATTACH;FMTTYPE=image/jpeg:https://cineclubetorres.org/wp-content/uploads/2025/02/rosa.jpg
ORGANIZER;CN="Cineclube Torres":MAILTO:contato@cineclubetorres.org
END:VEVENT
BEGIN:VEVENT
DTSTART;TZID=America/Sao_Paulo:20250224T200000
DTEND;TZID=America/Sao_Paulo:20250224T220000
DTSTAMP:20260423T161300
CREATED:20250203T180028Z
LAST-MODIFIED:20250203T180028Z
UID:2077-1740427200-1740434400@cineclubetorres.org
SUMMARY:Família Submersa
DESCRIPTION:“Família Submersa” | 2018 | ARGENTINA | A irmã e companheira de Marcela\, Rina\, morre subitamente\, deixando-a triste e perturbada. Seu velório é marcado por conversas sobre o passado que incomodam Marcela. Produção intimista\, explorando os processos de luto e superação. Diretora: María Alché.
URL:https://cineclubetorres.org/sessoes/familia-submersa/
LOCATION:Sala Audiovisual Gilda e Leonardo\, Rua Cincinato Borges\, 420\, Torres\, Rio Grande do Sul\, 95560-000\, Brazil
CATEGORIES:Filme
ATTACH;FMTTYPE=image/jpeg:https://cineclubetorres.org/wp-content/uploads/2025/02/familia-sub-1.jpg
ORGANIZER;CN="Cineclube Torres":MAILTO:contato@cineclubetorres.org
END:VEVENT
BEGIN:VEVENT
DTSTART;TZID=America/Sao_Paulo:20250217T200000
DTEND;TZID=America/Sao_Paulo:20250217T220000
DTSTAMP:20260423T161300
CREATED:20250203T175739Z
LAST-MODIFIED:20250203T175739Z
UID:2075-1739822400-1739829600@cineclubetorres.org
SUMMARY:A Camareira
DESCRIPTION:“A Camareira” | 2019 | MÉXICO | Vencedor do melhor filme de estreia do Prêmio Platino de Cinema Ibero-Americano de 2020. Em um hotel de luxo na Cidade do México\, Eve\, uma jovem de 24 anos\, trabalha como camareira. Ela logo percebe\, porém\, que nem sempre quem faz o trabalho pesado é recompensado. Diretora: Lila Avilés.
URL:https://cineclubetorres.org/sessoes/a-camareira/
LOCATION:Sala Audiovisual Gilda e Leonardo\, Rua Cincinato Borges\, 420\, Torres\, Rio Grande do Sul\, 95560-000\, Brazil
CATEGORIES:Filme
ATTACH;FMTTYPE=image/jpeg:https://cineclubetorres.org/wp-content/uploads/2025/02/Filme_A-Camareira_blog.jpg
ORGANIZER;CN="Cineclube Torres":MAILTO:contato@cineclubetorres.org
END:VEVENT
BEGIN:VEVENT
DTSTART;TZID=America/Sao_Paulo:20250210T200000
DTEND;TZID=America/Sao_Paulo:20250210T220000
DTSTAMP:20260423T161300
CREATED:20250203T175251Z
LAST-MODIFIED:20250203T175549Z
UID:2062-1739217600-1739224800@cineclubetorres.org
SUMMARY:Os Colonos
DESCRIPTION:“Os Colonos” | 2024 | CHILE |Um chileno mestiço cavalga para o sul em uma expedição liderada por um ex-capitão inglês e um mercenário norte-americano\, para cercar terras concedidas a um rico proprietário espanhol\, José Menéndez. Os Colonos é um western revisionista que explora os temas da colonização\, da violência e do extermínio sofrido pela população indígena. Diretor: Felipe Gálvez Haberle.
URL:https://cineclubetorres.org/sessoes/os-colonos/
LOCATION:Sala Audiovisual Gilda e Leonardo\, Rua Cincinato Borges\, 420\, Torres\, Rio Grande do Sul\, 95560-000\, Brazil
CATEGORIES:Filme
ATTACH;FMTTYPE=image/jpeg:https://cineclubetorres.org/wp-content/uploads/2025/02/20240410-los-colonos-papo-de-cinema-e1712776304631-750x365-1.jpg
ORGANIZER;CN="Cineclube Torres":MAILTO:contato@cineclubetorres.org
END:VEVENT
BEGIN:VEVENT
DTSTART;TZID=America/Sao_Paulo:20250203T200000
DTEND;TZID=America/Sao_Paulo:20250203T220000
DTSTAMP:20260423T161300
CREATED:20250131T234918Z
LAST-MODIFIED:20250203T175156Z
UID:2053-1738612800-1738620000@cineclubetorres.org
SUMMARY:Mosquito
DESCRIPTION:“Mosquito” | 2020 | PORTUGAL | Zacarias é um jovem soldado português sedento por viver grandes aventuras heroicas em durante a Primeira Guerra Mundial em Moçambique. Abandonado pelo seu pelotão\, parte numa longa odisseia mato adentro\, à procura da guerra e dos seus sonhos de glória. Diretor: João Nuno Pinto.
URL:https://cineclubetorres.org/sessoes/2053/
LOCATION:Sala Audiovisual Gilda e Leonardo\, Rua Cincinato Borges\, 420\, Torres\, Rio Grande do Sul\, 95560-000\, Brazil
CATEGORIES:Filme
ATTACH;FMTTYPE=image/jpeg:https://cineclubetorres.org/wp-content/uploads/2025/01/mosquito.jpg
ORGANIZER;CN="Cineclube Torres":MAILTO:contato@cineclubetorres.org
END:VEVENT
BEGIN:VEVENT
DTSTART;TZID=America/Sao_Paulo:20241129T200000
DTEND;TZID=America/Sao_Paulo:20241129T220000
DTSTAMP:20260423T161300
CREATED:20241031T144104Z
LAST-MODIFIED:20241031T150621Z
UID:1996-1732910400-1732917600@cineclubetorres.org
SUMMARY:Rifle
DESCRIPTION:SESSÃO COM A PRESENÇA DO DIRETOR: Rifle | 2017 ‧ Suspense/Drama ‧ 1h 28m | Diretor: Davi Pretto | Dione é um jovem que vive com sua família isolados em uma região rural. A tranquilidade do local é abalada quando um rico proprietário tenta comprar a propriedade onde ele e sua família vivem.
URL:https://cineclubetorres.org/sessoes/rifle/
LOCATION:Sala Audiovisual Gilda e Leonardo\, Rua Cincinato Borges\, 420\, Torres\, Rio Grande do Sul\, 95560-000\, Brazil
CATEGORIES:Filme
ATTACH;FMTTYPE=image/jpeg:https://cineclubetorres.org/wp-content/uploads/2024/10/rifle_frame_01-800x445-1.jpg
ORGANIZER;CN="Cineclube Torres":MAILTO:contato@cineclubetorres.org
END:VEVENT
BEGIN:VEVENT
DTSTART;TZID=America/Sao_Paulo:20241125T200000
DTEND;TZID=America/Sao_Paulo:20241125T220000
DTSTAMP:20260423T161300
CREATED:20241031T143018Z
LAST-MODIFIED:20241031T143018Z
UID:1993-1732564800-1732572000@cineclubetorres.org
SUMMARY:Mulher do Pai
DESCRIPTION:Mulher do Pai | 2016 ‧ Drama ‧ 1h 34m | Diretora: Cristiane Oliveira | Nalu precisa cuidar do pai cego\, após a morte da avó que os criou como irmãos. Quando Ruben percebe o amadurecimento da filha\, surge uma desconcertante intimidade entre eles.
URL:https://cineclubetorres.org/sessoes/mulher-do-pai/
LOCATION:Sala Audiovisual Gilda e Leonardo\, Rua Cincinato Borges\, 420\, Torres\, Rio Grande do Sul\, 95560-000\, Brazil
CATEGORIES:Filme
ATTACH;FMTTYPE=image/jpeg:https://cineclubetorres.org/wp-content/uploads/2024/10/mulher-do-pai-canal-brasil-post-cosmonerd.jpg
ORGANIZER;CN="Cineclube Torres":MAILTO:contato@cineclubetorres.org
END:VEVENT
BEGIN:VEVENT
DTSTART;TZID=America/Sao_Paulo:20241118T200000
DTEND;TZID=America/Sao_Paulo:20241118T220000
DTSTAMP:20260423T161300
CREATED:20241031T142404Z
LAST-MODIFIED:20241031T142404Z
UID:1988-1731960000-1731967200@cineclubetorres.org
SUMMARY:A Última Estrada da Praia
DESCRIPTION:A Última Estrada da Praia | 2010 ‧ Drama/Aventura ‧ 1h 57m | Diretor: Fabiano de Souza | Leo\, Norberto e Paula mantêm uma relação de amizade marcada por um amor intenso. Jovens e livres\, decidem partir em viagem pelo litoral. A realidade\, entretanto\, é bem mais complexa\, e as discussões são inevitáveis.
URL:https://cineclubetorres.org/sessoes/a-ultima-estrada-da-praia/
LOCATION:Sala Audiovisual Gilda e Leonardo\, Rua Cincinato Borges\, 420\, Torres\, Rio Grande do Sul\, 95560-000\, Brazil
CATEGORIES:Filme
ATTACH;FMTTYPE=image/jpeg:https://cineclubetorres.org/wp-content/uploads/2024/10/filmes_1592_A-Ultima-Estrada-da-Praia-3.jpg
ORGANIZER;CN="Cineclube Torres":MAILTO:contato@cineclubetorres.org
END:VEVENT
BEGIN:VEVENT
DTSTART;TZID=America/Sao_Paulo:20241111T200000
DTEND;TZID=America/Sao_Paulo:20241111T220000
DTSTAMP:20260423T161300
CREATED:20241031T140447Z
LAST-MODIFIED:20241031T140447Z
UID:1985-1731355200-1731362400@cineclubetorres.org
SUMMARY:Tinta Bruta
DESCRIPTION:Tinta Bruta | 2018 ‧ Thriller/Drama ‧ 1h 57m | Diretores: Filipe Matzembacher e Marcio Reolon | Enquanto responde a um processo criminal\, Pedro é forçado a lidar com a mudança da irmã para o outro lado do país. Sozinho no escuro do seu quarto\, ele dança coberto de tinta neon\, enquanto milhares de estranhos o assistem pela webcam.
URL:https://cineclubetorres.org/sessoes/tinta-bruta/
LOCATION:Sala Audiovisual Gilda e Leonardo\, Rua Cincinato Borges\, 420\, Torres\, Rio Grande do Sul\, 95560-000\, Brazil
CATEGORIES:Filme
ATTACH;FMTTYPE=image/jpeg:https://cineclubetorres.org/wp-content/uploads/2024/10/Tinta_Bruta_07122018184625.jpg
ORGANIZER;CN="Cineclube Torres":MAILTO:contato@cineclubetorres.org
END:VEVENT
BEGIN:VEVENT
DTSTART;TZID=America/Sao_Paulo:20241109T200000
DTEND;TZID=America/Sao_Paulo:20241109T220000
DTSTAMP:20260423T161300
CREATED:20241031T135831Z
LAST-MODIFIED:20241031T135831Z
UID:1980-1731182400-1731189600@cineclubetorres.org
SUMMARY:Ainda Orangotangos
DESCRIPTION:SESSÃO COM A PRESENÇA DO DIRETOR: Ainda Orangotangos | 2007 ‧ Romance/Comédia ‧ 1h 21m | Diretor: Gustavo Spolidoro | Em um único plano-seqüência\, um passeio por Porto Alegre. Por trás da aparente normalidade dos prédios residenciais\, no dia mais quente do verão\, alguns habitantes vivem situações limite em uma cidade às vezes onírica\, às vezes crua e violenta.
URL:https://cineclubetorres.org/sessoes/ainda-orangotangos/
LOCATION:Sala Audiovisual Gilda e Leonardo\, Rua Cincinato Borges\, 420\, Torres\, Rio Grande do Sul\, 95560-000\, Brazil
CATEGORIES:Filme
ATTACH;FMTTYPE=image/jpeg:https://cineclubetorres.org/wp-content/uploads/2024/10/AO_Renata_Jana_1920.jpg
ORGANIZER;CN="Cineclube Torres":MAILTO:contato@cineclubetorres.org
END:VEVENT
BEGIN:VEVENT
DTSTART;TZID=America/Sao_Paulo:20241108T200000
DTEND;TZID=America/Sao_Paulo:20241108T220000
DTSTAMP:20260423T161300
CREATED:20241031T134818Z
LAST-MODIFIED:20241031T134922Z
UID:1976-1731096000-1731103200@cineclubetorres.org
SUMMARY:Dromedário no Asfalto
DESCRIPTION:SESSÃO COM A PRESENÇA DO DIRETOR: Dromedário no Asfalto | 2014 ‧ Drama ‧ 1h 23m| Diretor: Gilson Vargas | Depois de perder a mãe\, Pedro se sente devastado e determinado a conhecer a identidade de seu pai. A única informação que ele tem é que o homem partiu para o Uruguai para viver recluso. Assim\, resolve ele mesmo partir em uma jornada até ao Uruguai\, a fim de encontrar a pessoa que lhe deu os traços marcantes de uma mente reflexiva e emotiva.
URL:https://cineclubetorres.org/sessoes/dromedario-no-asfalto/
LOCATION:Sala Audiovisual Gilda e Leonardo\, Rua Cincinato Borges\, 420\, Torres\, Rio Grande do Sul\, 95560-000\, Brazil
CATEGORIES:Filme
ATTACH;FMTTYPE=image/jpeg:https://cineclubetorres.org/wp-content/uploads/2024/10/f126d80ce9754cf143e221ec8c4677bc_L-e1730382416869.jpg
ORGANIZER;CN="Cineclube Torres":MAILTO:contato@cineclubetorres.org
END:VEVENT
BEGIN:VEVENT
DTSTART;TZID=America/Sao_Paulo:20241104T200000
DTEND;TZID=America/Sao_Paulo:20241104T220000
DTSTAMP:20260423T161300
CREATED:20241031T130438Z
LAST-MODIFIED:20241031T140012Z
UID:1967-1730750400-1730757600@cineclubetorres.org
SUMMARY:Beira Mar
DESCRIPTION:Beira Mar | 2015 ‧ Drama ‧ 1h 23m | Diretores: Filipe Matzembacher e Marcio Reolon | Durante o inverno\, dois jovens viajam ao litoral gaúcho. Martin precisa visitar parentes distantes. Tomaz aceita acompanhá-lo nessa jornada\, aproveitando a oportunidade para se reaproximar do amigo. Os dois passam os dias imersos em um universo próprio\, expostos à estranha distância que surgiu entre eles. Os garotos se abrigam em uma casa de vidro\, à beira de um mar frio e revolto.
URL:https://cineclubetorres.org/sessoes/beira-mar/
LOCATION:Sala Audiovisual Gilda e Leonardo\, Rua Cincinato Borges\, 420\, Torres\, Rio Grande do Sul\, 95560-000\, Brazil
CATEGORIES:Filme
ATTACH;FMTTYPE=image/jpeg:https://cineclubetorres.org/wp-content/uploads/2024/10/BEIRA-MAR-_-MATEUS-ALMADA-E-MAURICIO-JOSE-BARCELLOS.jpg
ORGANIZER;CN="Cineclube Torres":MAILTO:contato@cineclubetorres.org
END:VEVENT
END:VCALENDAR