BEGIN:VCALENDAR
VERSION:2.0
PRODID:-//Cineclube Torres - ECPv6.15.19//NONSGML v1.0//EN
CALSCALE:GREGORIAN
METHOD:PUBLISH
X-ORIGINAL-URL:https://cineclubetorres.org
X-WR-CALDESC:Eventos para Cineclube Torres
REFRESH-INTERVAL;VALUE=DURATION:PT1H
X-Robots-Tag:noindex
X-PUBLISHED-TTL:PT1H
BEGIN:VTIMEZONE
TZID:America/Sao_Paulo
BEGIN:STANDARD
TZOFFSETFROM:-0300
TZOFFSETTO:-0300
TZNAME:-03
DTSTART:20230101T000000
END:STANDARD
END:VTIMEZONE
BEGIN:VEVENT
DTSTART;TZID=America/Sao_Paulo:20240513T200000
DTEND;TZID=America/Sao_Paulo:20240513T200000
DTSTAMP:20260423T222501
CREATED:20240503T005802Z
LAST-MODIFIED:20240503T005840Z
UID:1720-1715630400-1715630400@cineclubetorres.org
SUMMARY:Jimmy's Hall
DESCRIPTION:Jimmy’s Hall\n2014 ‧ Drama/História‧ 1h 49m\nDiretor: Ken Loach (UK) \n\nEm 1932\, depois de passar dez anos em Nova York\, Jimmy Gralton volta a Leitrim\, cidade natal na Irlanda. O motivo desse tempo fora foi a perseguição por ser comunista e defensor da liberdade de expressão. Jimmy pretende levar uma vida pacata na Irlanda\, mas jovens da cidade e seus antigos amigos insistem para que ele reabra o salão onde a população tinha aulas de dança e se divertia. O problema é que essa iniciativa não agrada o padre de Leitrim.
URL:https://cineclubetorres.org/sessoes/1720/
LOCATION:Sala Audiovisual Gilda e Leonardo\, Rua Cincinato Borges\, 420\, Torres\, Rio Grande do Sul\, 95560-000\, Brazil
ATTACH;FMTTYPE=image/jpeg:https://cineclubetorres.org/wp-content/uploads/2024/05/unnamed-3.jpg
ORGANIZER;CN="Cineclube Torres":MAILTO:contato@cineclubetorres.org
END:VEVENT
BEGIN:VEVENT
DTSTART;TZID=America/Sao_Paulo:20240506T200000
DTEND;TZID=America/Sao_Paulo:20240506T220000
DTSTAMP:20260423T222501
CREATED:20240502T142548Z
LAST-MODIFIED:20240502T142625Z
UID:1708-1715025600-1715032800@cineclubetorres.org
SUMMARY:Pão e Rosas
DESCRIPTION:Pão e Rosas\n2000 ‧ Drama/Comédia ‧ 1h 50m\nDiretor: Ken Loach (UK) \n\nMaya (Pilar Padilha) e Rosa\, são duas irmãs\, imigrantes mexicanas vivendo nos Estados Unidos que trabalham como faxineiras em um prédio comercial. Suas vidas se cruzam com Sam (Adrian Brody)\, um ativista norte-americano que luta pelos direitos dos oprimidos. Rosa e Maya abraçam a causa e se engajam na luta contra os patrões\, o que acaba naturalmente pondo em risco o emprego\, a família e até mesmo o direito de permanência em território estadunidense.
URL:https://cineclubetorres.org/sessoes/1708/
LOCATION:Sala Audiovisual Gilda e Leonardo\, Rua Cincinato Borges\, 420\, Torres\, Rio Grande do Sul\, 95560-000\, Brazil
ATTACH;FMTTYPE=image/jpeg:https://cineclubetorres.org/wp-content/uploads/2024/05/bread-and-roses-2000-05-g-1024x680-1.jpg
ORGANIZER;CN="Cineclube Torres":MAILTO:contato@cineclubetorres.org
END:VEVENT
BEGIN:VEVENT
DTSTART;TZID=America/Sao_Paulo:20240429T200000
DTEND;TZID=America/Sao_Paulo:20240429T200000
DTSTAMP:20260423T222501
CREATED:20240319T204931Z
LAST-MODIFIED:20240319T212303Z
UID:1655-1714420800-1714420800@cineclubetorres.org
SUMMARY:Domésticas
DESCRIPTION:Domésticas\n2001 ‧ Comédia/Documentário ‧ 1h 30m\nDiretores: Nando Olival\, Fernando Meirelles. \n\nEmpregadas domésticas contam suas desventuras em busca de futuro melhor ou da patroa perfeita. Limpam casas e sonham com carreira de modelo\, casamento\, um marido melhor\, estudos. Cinco delas têm expectativas diferentes\, mas vivem a mesma realidade.
URL:https://cineclubetorres.org/sessoes/domesticas/
LOCATION:Sala Audiovisual Gilda e Leonardo\, Rua Cincinato Borges\, 420\, Torres\, Rio Grande do Sul\, 95560-000\, Brazil
ATTACH;FMTTYPE=image/jpeg:https://cineclubetorres.org/wp-content/uploads/2024/03/220258_1.jpg
ORGANIZER;CN="Cineclube Torres":MAILTO:contato@cineclubetorres.org
END:VEVENT
BEGIN:VEVENT
DTSTART;TZID=America/Sao_Paulo:20240422T200000
DTEND;TZID=America/Sao_Paulo:20240422T200000
DTSTAMP:20260423T222501
CREATED:20240319T204713Z
LAST-MODIFIED:20240319T212325Z
UID:1653-1713816000-1713816000@cineclubetorres.org
SUMMARY:O Botão de Pérola
DESCRIPTION:O Botão de Pérola\n2015 ‧ Documentário/Drama ‧ 1h 22m\nDiretor: Patricio Guzmán. \n\nO cineasta Patricio Guzmán observa as águas do Chile\, onde foram jogados milhares de pessoas durante a ditadura. Ele faz uma triangulação entre a geografia (a condição insular do país)\, o passado colonial (com a morte e estupro de índios) e a ditadura de Pinochet.
URL:https://cineclubetorres.org/sessoes/o-botao-de-perola/
LOCATION:Sala Audiovisual Gilda e Leonardo\, Rua Cincinato Borges\, 420\, Torres\, Rio Grande do Sul\, 95560-000\, Brazil
ATTACH;FMTTYPE=image/png:https://cineclubetorres.org/wp-content/uploads/2024/03/images-original-e1710881273730.png
ORGANIZER;CN="Cineclube Torres":MAILTO:contato@cineclubetorres.org
END:VEVENT
BEGIN:VEVENT
DTSTART;TZID=America/Sao_Paulo:20240415T200000
DTEND;TZID=America/Sao_Paulo:20240415T200000
DTSTAMP:20260423T222501
CREATED:20240319T204532Z
LAST-MODIFIED:20240319T212510Z
UID:1651-1713211200-1713211200@cineclubetorres.org
SUMMARY:Deslembro
DESCRIPTION:Deslembro\n2018 ‧ Drama/Ficção ‧ 1h 45m\nDiretora: Flávia Castro. \n\nJoana é uma adolescente que mora em Paris com a família. Quando a anistia é decretada no Brasil\, ela volta ao Rio de Janeiro\, cidade em que nasceu e onde seu pai desapareceu nos porões do DOPS. Lá\, seu passado ressurge.
URL:https://cineclubetorres.org/sessoes/deslembro/
LOCATION:Sala Audiovisual Gilda e Leonardo\, Rua Cincinato Borges\, 420\, Torres\, Rio Grande do Sul\, 95560-000\, Brazil
ATTACH;FMTTYPE=image/jpeg:https://cineclubetorres.org/wp-content/uploads/2024/03/deslembro3.jpg
ORGANIZER;CN="Cineclube Torres":MAILTO:contato@cineclubetorres.org
END:VEVENT
BEGIN:VEVENT
DTSTART;TZID=America/Sao_Paulo:20240408T200000
DTEND;TZID=America/Sao_Paulo:20240408T220000
DTSTAMP:20260423T222501
CREATED:20240319T204339Z
LAST-MODIFIED:20240319T212457Z
UID:1649-1712606400-1712613600@cineclubetorres.org
SUMMARY:De Longe Te Observo
DESCRIPTION:De Longe Te Observo\n2015 ‧ Thriller/Romance ‧ 1h 33m\nDiretor: Lorenzo Vigas Castes. \n\nArmando\, de 50 anos\, costuma caminhar pela cidade de Caracas\, buscando a companhia de garotos jovens. Ele oferece dinheiro\, para que os rapazes o acompanhem até sua casa. Um dia\, Armando faz a oferta a Elder\, de 17 anos\, que é líder de uma gangue de criminosos. Elder aceita a oferta\, mas\, na casa de Armando\, o agride e rouba seu dinheiro. A partir desse encontro\, surge um complexo relacionamento entre eles\, já que Armando continua a procurá-lo e Elder precisa de dinheiro.
URL:https://cineclubetorres.org/sessoes/de-longe-te-observo/
LOCATION:Sala Audiovisual Gilda e Leonardo\, Rua Cincinato Borges\, 420\, Torres\, Rio Grande do Sul\, 95560-000\, Brazil
ATTACH;FMTTYPE=image/jpeg:https://cineclubetorres.org/wp-content/uploads/2024/03/Desde_Alla.jpg
ORGANIZER;CN="Cineclube Torres":MAILTO:contato@cineclubetorres.org
END:VEVENT
BEGIN:VEVENT
DTSTART;TZID=America/Sao_Paulo:20240401T200000
DTEND;TZID=America/Sao_Paulo:20240401T220000
DTSTAMP:20260423T222501
CREATED:20240319T172742Z
LAST-MODIFIED:20240319T212444Z
UID:1645-1712001600-1712008800@cineclubetorres.org
SUMMARY:Aquarius
DESCRIPTION:Aquarius\n2016 ‧ Thriller/Drama ‧ 2h 25m\nDiretor: Kleber Mendonça Filho. \n\nUma jornalista aposentada defende seu apartamento\, o último de um prédio antigo que fica à beira da praia\, onde viveu a vida toda\, do assédio de uma construtora. O plano é demolir o edifício Aquarius e dar lugar a um grande empreendimento.
URL:https://cineclubetorres.org/sessoes/aquarius/
LOCATION:Sala Audiovisual Gilda e Leonardo\, Rua Cincinato Borges\, 420\, Torres\, Rio Grande do Sul\, 95560-000\, Brazil
ATTACH;FMTTYPE=image/jpeg:https://cineclubetorres.org/wp-content/uploads/2024/03/141166.jpg
ORGANIZER;CN="Cineclube Torres":MAILTO:contato@cineclubetorres.org
END:VEVENT
BEGIN:VEVENT
DTSTART;TZID=America/Sao_Paulo:20240325T200000
DTEND;TZID=America/Sao_Paulo:20240325T220000
DTSTAMP:20260423T222501
CREATED:20240319T171619Z
LAST-MODIFIED:20240319T212526Z
UID:1639-1711396800-1711404000@cineclubetorres.org
SUMMARY:Infância Clandestina
DESCRIPTION:Infância Clandestina\n2011 ‧ Romance/Documentário ‧ 1h 52m\nDiretor: Benjamín Avila. \n\nNa década de 70\, em pleno regime ditatorial argentino\, o menino Juan e sua família vivem clandestinamente por discordar do governo. Quando ele se apaixona por Maria\, coloca em risco o disfarce que os protege dos truculentos soldados\, tudo para viver seu primeiro amor.
URL:https://cineclubetorres.org/sessoes/infancia-clandestina/
LOCATION:Sala Audiovisual Gilda e Leonardo\, Rua Cincinato Borges\, 420\, Torres\, Rio Grande do Sul\, 95560-000\, Brazil
ATTACH;FMTTYPE=image/jpeg:https://cineclubetorres.org/wp-content/uploads/2024/03/infancia.jpg
ORGANIZER;CN="Cineclube Torres":MAILTO:contato@cineclubetorres.org
END:VEVENT
END:VCALENDAR