BEGIN:VCALENDAR
VERSION:2.0
PRODID:-//Cineclube Torres - ECPv6.15.19//NONSGML v1.0//EN
CALSCALE:GREGORIAN
METHOD:PUBLISH
X-WR-CALNAME:Cineclube Torres
X-ORIGINAL-URL:https://cineclubetorres.org
X-WR-CALDESC:Eventos para Cineclube Torres
REFRESH-INTERVAL;VALUE=DURATION:PT1H
X-Robots-Tag:noindex
X-PUBLISHED-TTL:PT1H
BEGIN:VTIMEZONE
TZID:America/Sao_Paulo
BEGIN:STANDARD
TZOFFSETFROM:-0300
TZOFFSETTO:-0300
TZNAME:-03
DTSTART:20230101T000000
END:STANDARD
END:VTIMEZONE
BEGIN:VEVENT
DTSTART;TZID=America/Sao_Paulo:20240325T200000
DTEND;TZID=America/Sao_Paulo:20240325T220000
DTSTAMP:20260425T000501
CREATED:20240319T171619Z
LAST-MODIFIED:20240319T212526Z
UID:1639-1711396800-1711404000@cineclubetorres.org
SUMMARY:Infância Clandestina
DESCRIPTION:Infância Clandestina\n2011 ‧ Romance/Documentário ‧ 1h 52m\nDiretor: Benjamín Avila. \n\nNa década de 70\, em pleno regime ditatorial argentino\, o menino Juan e sua família vivem clandestinamente por discordar do governo. Quando ele se apaixona por Maria\, coloca em risco o disfarce que os protege dos truculentos soldados\, tudo para viver seu primeiro amor.
URL:https://cineclubetorres.org/sessoes/infancia-clandestina/
LOCATION:Sala Audiovisual Gilda e Leonardo\, Rua Cincinato Borges\, 420\, Torres\, Rio Grande do Sul\, 95560-000\, Brazil
ATTACH;FMTTYPE=image/jpeg:https://cineclubetorres.org/wp-content/uploads/2024/03/infancia.jpg
ORGANIZER;CN="Cineclube Torres":MAILTO:contato@cineclubetorres.org
END:VEVENT
END:VCALENDAR