BEGIN:VCALENDAR
VERSION:2.0
PRODID:-//Cineclube Torres - ECPv6.15.19//NONSGML v1.0//EN
CALSCALE:GREGORIAN
METHOD:PUBLISH
X-WR-CALNAME:Cineclube Torres
X-ORIGINAL-URL:https://cineclubetorres.org
X-WR-CALDESC:Eventos para Cineclube Torres
REFRESH-INTERVAL;VALUE=DURATION:PT1H
X-Robots-Tag:noindex
X-PUBLISHED-TTL:PT1H
BEGIN:VTIMEZONE
TZID:America/Sao_Paulo
BEGIN:STANDARD
TZOFFSETFROM:-0300
TZOFFSETTO:-0300
TZNAME:-03
DTSTART:20230101T000000
END:STANDARD
END:VTIMEZONE
BEGIN:VEVENT
DTSTART;TZID=America/Sao_Paulo:20240603T200000
DTEND;TZID=America/Sao_Paulo:20240603T220000
DTSTAMP:20260424T194844
CREATED:20240529T002345Z
LAST-MODIFIED:20240628T230244Z
UID:1735-1717444800-1717452000@cineclubetorres.org
SUMMARY:Orgulho e Esperança
DESCRIPTION:Orgulho e Esperança\n2014 ‧ Comédia‧ 1h 40m\nDiretor: Matthew Warchus (Reino Unido) \n\nNo ano de 1984\, durante o período de Margaret Tatcher no poder\, os mineiros decidem entrar em greve. Um grupo de ativistas homossexuais começa a trabalhar para arrecadar dinheiro para a família desses trabalhadores. O problema é que a União Nacional dos Mineiros parece um pouco constrangida em receber essa ajuda.
URL:https://cineclubetorres.org/sessoes/orgulho-e-esperanca/
LOCATION:Sala Audiovisual Gilda e Leonardo\, Rua Cincinato Borges\, 420\, Torres\, Rio Grande do Sul\, 95560-000\, Brazil
ATTACH;FMTTYPE=image/jpeg:https://cineclubetorres.org/wp-content/uploads/2024/05/image-w1280.jpg
ORGANIZER;CN="Cineclube Torres":MAILTO:contato@cineclubetorres.org
END:VEVENT
BEGIN:VEVENT
DTSTART;TZID=America/Sao_Paulo:20240610T200000
DTEND;TZID=America/Sao_Paulo:20240610T220000
DTSTAMP:20260424T194844
CREATED:20240529T002907Z
LAST-MODIFIED:20240529T002907Z
UID:1742-1718049600-1718056800@cineclubetorres.org
SUMMARY:Má Educação
DESCRIPTION:Má Educação\n2004 ‧ Crime/Thriller‧ 1h 46m\nDiretor: Pedro Almodóvar (Espanha) \n\nUm velho amigo entrega a um cineasta Enrique Goded um roteiro baseado na adolescência dos dois em um internato católico. Alternando passado e presente\, o roteiro faz Enrique refletir sobre os efeitos da repressão sexual em sua própria vida.
URL:https://cineclubetorres.org/sessoes/ma-educacao/
LOCATION:Sala Audiovisual Gilda e Leonardo\, Rua Cincinato Borges\, 420\, Torres\, Rio Grande do Sul\, 95560-000\, Brazil
ATTACH;FMTTYPE=image/jpeg:https://cineclubetorres.org/wp-content/uploads/2024/05/bad-education_1_cropped-fr-1641245707.jpg
ORGANIZER;CN="Cineclube Torres":MAILTO:contato@cineclubetorres.org
END:VEVENT
BEGIN:VEVENT
DTSTART;TZID=America/Sao_Paulo:20240617T200000
DTEND;TZID=America/Sao_Paulo:20240617T220000
DTSTAMP:20260424T194844
CREATED:20240529T003335Z
LAST-MODIFIED:20240529T003335Z
UID:1744-1718654400-1718661600@cineclubetorres.org
SUMMARY:Patrick 1.5
DESCRIPTION:Patrick 1.5\n2008 ‧ Comédia‧ 1h 43m\nDiretor: Ella Lemhagen (Suécia) \n\nUm casal gay consegue permissão para adotar Patrik\, um órfão que pelas informações do sistema de adoções teria um ano e meio de idade. Quando o garoto chega\, os pais descobrem que houve um erro na sua idade.
URL:https://cineclubetorres.org/sessoes/patrick-1-5/
LOCATION:Sala Audiovisual Gilda e Leonardo\, Rua Cincinato Borges\, 420\, Torres\, Rio Grande do Sul\, 95560-000\, Brazil
ATTACH;FMTTYPE=image/jpeg:https://cineclubetorres.org/wp-content/uploads/2024/05/capa3.jpg
ORGANIZER;CN="Cineclube Torres":MAILTO:contato@cineclubetorres.org
END:VEVENT
BEGIN:VEVENT
DTSTART;TZID=America/Sao_Paulo:20240624T200000
DTEND;TZID=America/Sao_Paulo:20240624T220000
DTSTAMP:20260424T194844
CREATED:20240529T003640Z
LAST-MODIFIED:20240529T003649Z
UID:1746-1719259200-1719266400@cineclubetorres.org
SUMMARY:Priscilla\, a Rainha do Deserto
DESCRIPTION:Priscilla\, a Rainha do Deserto\n1994 ‧ Musical/Aventura ‧ 1h 44m\nDiretor: Stephan Elliott (Austrália) \n\nAnthony decide levar seu show para a estrada e convida as travestis Adam e Bernadette para acompanhá-lo. No seu ônibus todo colorido\, chamado Priscilla\, os três viajam pelo deserto australiano fazendo apresentações no caminho.
URL:https://cineclubetorres.org/sessoes/1746/
LOCATION:Sala Audiovisual Gilda e Leonardo\, Rua Cincinato Borges\, 420\, Torres\, Rio Grande do Sul\, 95560-000\, Brazil
ATTACH;FMTTYPE=image/jpeg:https://cineclubetorres.org/wp-content/uploads/2024/05/1.-Priscilla-a-rainha-do-deserto_P_still_credito-divulgacao.jpg
ORGANIZER;CN="Cineclube Torres":MAILTO:contato@cineclubetorres.org
END:VEVENT
END:VCALENDAR