BEGIN:VCALENDAR
VERSION:2.0
PRODID:-//Cineclube Torres - ECPv6.15.19//NONSGML v1.0//EN
CALSCALE:GREGORIAN
METHOD:PUBLISH
X-WR-CALNAME:Cineclube Torres
X-ORIGINAL-URL:https://cineclubetorres.org
X-WR-CALDESC:Eventos para Cineclube Torres
REFRESH-INTERVAL;VALUE=DURATION:PT1H
X-Robots-Tag:noindex
X-PUBLISHED-TTL:PT1H
BEGIN:VTIMEZONE
TZID:America/Sao_Paulo
BEGIN:STANDARD
TZOFFSETFROM:-0300
TZOFFSETTO:-0300
TZNAME:-03
DTSTART:20230101T000000
END:STANDARD
END:VTIMEZONE
BEGIN:VEVENT
DTSTART;TZID=America/Sao_Paulo:20240701T200000
DTEND;TZID=America/Sao_Paulo:20240701T220000
DTSTAMP:20260424T183514
CREATED:20240628T231534Z
LAST-MODIFIED:20240628T231534Z
UID:1764-1719864000-1719871200@cineclubetorres.org
SUMMARY:Assunto de Família
DESCRIPTION:Assunto de Família\n2018 ‧ Drama ‧ 2h 01m\nDiretor: Hirokazu Koreeda (Japão) \n\nUma família pobre que vive na metrópole de Tokyo de expedientes e pequenos furtos\, encontra por acaso uma pequena órfã abandonada. Apesar da existência precária\, decidem cuidar dela\, depois de saber das dificuldades que enfrentou\, integrando a menina na família. Embora mal ganhe dinheiro com os pequenos crimes que comete\, o grupo familiar parece viver feliz junto\, até que um incidente fortuito revela segredos até então escondidos\, colocando à prova os laços instaurados.
URL:https://cineclubetorres.org/sessoes/assunto-de-familia/
LOCATION:Sala Audiovisual Gilda e Leonardo\, Rua Cincinato Borges\, 420\, Torres\, Rio Grande do Sul\, 95560-000\, Brazil
ATTACH;FMTTYPE=image/jpeg:https://cineclubetorres.org/wp-content/uploads/2024/06/assunto-de-familia1.jpg
ORGANIZER;CN="Cineclube Torres":MAILTO:contato@cineclubetorres.org
END:VEVENT
BEGIN:VEVENT
DTSTART;TZID=America/Sao_Paulo:20240708T200000
DTEND;TZID=America/Sao_Paulo:20240708T220000
DTSTAMP:20260424T183514
CREATED:20240628T232419Z
LAST-MODIFIED:20240628T232446Z
UID:1768-1720468800-1720476000@cineclubetorres.org
SUMMARY:Flores Partidas
DESCRIPTION:Flores Partidas\n2005 ‧ Comédia ‧ 1h 46m\nDiretor: Jim Jarrmush (Estados Unidos) \n\nDon Johnston (Bill Murray) é um conquistador e solteirão convicto\, que terminou recentemente mais um namoro. Repentinamente ele recebe uma carta cor-de-rosa\, que diz que ele possui um filho de 19 anos. Surpreendido e curioso\, Don decide então partir pelos Estados Unidos em busca do filho desconhecido.
URL:https://cineclubetorres.org/sessoes/flores-partidas/
LOCATION:Sala Audiovisual Gilda e Leonardo\, Rua Cincinato Borges\, 420\, Torres\, Rio Grande do Sul\, 95560-000\, Brazil
ATTACH;FMTTYPE=image/webp:https://cineclubetorres.org/wp-content/uploads/2024/06/18838936.webp
ORGANIZER;CN="Cineclube Torres":MAILTO:contato@cineclubetorres.org
END:VEVENT
BEGIN:VEVENT
DTSTART;TZID=America/Sao_Paulo:20240715T200000
DTEND;TZID=America/Sao_Paulo:20240715T220000
DTSTAMP:20260424T183514
CREATED:20240629T002944Z
LAST-MODIFIED:20240629T004914Z
UID:1772-1721073600-1721080800@cineclubetorres.org
SUMMARY:Belos Sonhos
DESCRIPTION:Belos Sonhos\n2016 ‧ Drama ‧ 2h 15m\nDiretor: Marco Bellocchio (Itália) \n\nUm conceituado jornalista sofreu uma perda irreparável quando criança\, a morte de sua mãe. Agora que ele precisa vender o apartamento dos pais\, acaba se confrontando seu passado para descobrir a verdade.
URL:https://cineclubetorres.org/sessoes/belos-sonhos/
LOCATION:Sala Audiovisual Gilda e Leonardo\, Rua Cincinato Borges\, 420\, Torres\, Rio Grande do Sul\, 95560-000\, Brazil
ATTACH;FMTTYPE=image/jpeg:https://cineclubetorres.org/wp-content/uploads/2024/06/faibeisogni1.jpg
ORGANIZER;CN="Cineclube Torres":MAILTO:contato@cineclubetorres.org
END:VEVENT
BEGIN:VEVENT
DTSTART;TZID=America/Sao_Paulo:20240722T200000
DTEND;TZID=America/Sao_Paulo:20240722T220000
DTSTAMP:20260424T183514
CREATED:20240629T004238Z
LAST-MODIFIED:20240629T004927Z
UID:1777-1721678400-1721685600@cineclubetorres.org
SUMMARY:Sierranevada
DESCRIPTION:Sierranevada\n2016 ‧ Drama ‧ 2h 40m\nDiretor: Cristi Puiu (Romênia) \n\nUm médico prepara-se para passar o sábado com a família em uma tradicional cerimônia para o falecido pai. Os acontecimentos fogem do controle e ele acaba sendo forçado a confrontar seu passado.
URL:https://cineclubetorres.org/sessoes/sierranevada/
LOCATION:Sala Audiovisual Gilda e Leonardo\, Rua Cincinato Borges\, 420\, Torres\, Rio Grande do Sul\, 95560-000\, Brazil
ATTACH;FMTTYPE=image/webp:https://cineclubetorres.org/wp-content/uploads/2024/06/image-w1280.webp
ORGANIZER;CN="Cineclube Torres":MAILTO:contato@cineclubetorres.org
END:VEVENT
BEGIN:VEVENT
DTSTART;TZID=America/Sao_Paulo:20240729T200000
DTEND;TZID=America/Sao_Paulo:20240729T220000
DTSTAMP:20260424T183514
CREATED:20240629T004739Z
LAST-MODIFIED:20240629T004942Z
UID:1780-1722283200-1722290400@cineclubetorres.org
SUMMARY:Festa de Família
DESCRIPTION:Festa de Família\n1998 ‧ Drama ‧ 1h 41m\nDiretor: Thomas Vinterberg (Dinamarca) \n\nO patriarca (Henning Moritzen) de família dinamarquesa comemora seus 60 anos em grande estilo\, reunindo família e amigos em um hotel de luxo. Mas uma revelação feita por seu filho muda completamente o clima.
URL:https://cineclubetorres.org/sessoes/festa-de-familia/
LOCATION:Sala Audiovisual Gilda e Leonardo\, Rua Cincinato Borges\, 420\, Torres\, Rio Grande do Sul\, 95560-000\, Brazil
ATTACH;FMTTYPE=image/jpeg:https://cineclubetorres.org/wp-content/uploads/2024/06/80713b5ecd8f537722bcce92d29482c5877b14508c0ec519fa2b772cf1148b0c._SX1080_FMjpg_.jpg
ORGANIZER;CN="Cineclube Torres":MAILTO:contato@cineclubetorres.org
END:VEVENT
END:VCALENDAR