BEGIN:VCALENDAR
VERSION:2.0
PRODID:-//Cineclube Torres - ECPv6.15.19//NONSGML v1.0//EN
CALSCALE:GREGORIAN
METHOD:PUBLISH
X-WR-CALNAME:Cineclube Torres
X-ORIGINAL-URL:https://cineclubetorres.org
X-WR-CALDESC:Eventos para Cineclube Torres
REFRESH-INTERVAL;VALUE=DURATION:PT1H
X-Robots-Tag:noindex
X-PUBLISHED-TTL:PT1H
BEGIN:VTIMEZONE
TZID:America/Sao_Paulo
BEGIN:STANDARD
TZOFFSETFROM:-0300
TZOFFSETTO:-0300
TZNAME:-03
DTSTART:20240101T000000
END:STANDARD
END:VTIMEZONE
BEGIN:VEVENT
DTSTART;TZID=America/Sao_Paulo:20251103T200000
DTEND;TZID=America/Sao_Paulo:20251103T220000
DTSTAMP:20260423T201412
CREATED:20251102T205901Z
LAST-MODIFIED:20251102T210052Z
UID:2292-1762200000-1762207200@cineclubetorres.org
SUMMARY:Normandia Nua
DESCRIPTION:“Normandia Nua” de Philippe Le Guay | 2019 | França | Em uma pequena aldeia da Normandia\, os agricultores são gravemente afetados pela crise. O prefeito da cidade não aceita a difícil situação e decide tentar de tudo para salvar seu povoado.
URL:https://cineclubetorres.org/sessoes/normandia-nua/
LOCATION:Sala Audiovisual Gilda e Leonardo\, Rua Cincinato Borges\, 420\, Torres\, Rio Grande do Sul\, 95560-000\, Brazil
CATEGORIES:Filme
ATTACH;FMTTYPE=image/png:https://cineclubetorres.org/wp-content/uploads/2025/11/625924f3baecf104e0c0abc8cc7269bf92dfbf33872e20eca7e1ebe82950cbca._SX1920_FMwebp_.png
ORGANIZER;CN="Cineclube Torres":MAILTO:contato@cineclubetorres.org
END:VEVENT
BEGIN:VEVENT
DTSTART;TZID=America/Sao_Paulo:20251117T200000
DTEND;TZID=America/Sao_Paulo:20251117T220000
DTSTAMP:20260423T201412
CREATED:20251102T211453Z
LAST-MODIFIED:20260126T141456Z
UID:2300-1763409600-1763416800@cineclubetorres.org
SUMMARY:À Procura de Vivian Maier
DESCRIPTION:“À Procura de Vivian Maier” de John Maloof e Charlie Siskel.| 2013 |  EUA | A misteriosa Vivian Maier era uma babá que tirou secretamente mais de 100 mil fotografias\, descobertas décadas depois\, elas lhe renderam uma reputação póstuma como uma das melhores fotógrafas de rua dos Estados Unidos.
URL:https://cineclubetorres.org/sessoes/a-procura-de-vivian-maier/
LOCATION:Sala Audiovisual Gilda e Leonardo\, Rua Cincinato Borges\, 420\, Torres\, Rio Grande do Sul\, 95560-000\, Brazil
CATEGORIES:Filme
ATTACH;FMTTYPE=image/webp:https://cineclubetorres.org/wp-content/uploads/2025/11/image-w1280-1.webp
ORGANIZER;CN="Cineclube Torres":MAILTO:contato@cineclubetorres.org
END:VEVENT
BEGIN:VEVENT
DTSTART;TZID=America/Sao_Paulo:20251122T180000
DTEND;TZID=America/Sao_Paulo:20251122T200000
DTSTAMP:20260423T201412
CREATED:20251102T212202Z
LAST-MODIFIED:20251102T212508Z
UID:2304-1763834400-1763841600@cineclubetorres.org
SUMMARY:Abertura da Exposição "Jacob Prudêncio Herrmann - O Olhar Revisitado"
DESCRIPTION:Em 2024\, o projeto do cineclube “Jacob Prudêncio Herrmann – O Olhar Revisitado”\, contemplado pelos recursos federais provenientes da aplicação da Lei Paulo Gustavo\, financiado por meio da Sedac (Secretaria do Estado da Cultura do RS) pelo Ministério da Cultura\, deu início a um minucioso trabalho de digitalização\, pesquisa e indexação do acervo. \nA exposição apresenta alguns originais e os painéis expositivos realizados ao abrigo do projeto. \nMais informações em www.jacobprudencioherrmann.com.br
URL:https://cineclubetorres.org/sessoes/abertura-da-exposicao-jacob-prudencio-herrmann-o-olhar-revisitado/
LOCATION:Galeria Ten Caten\, Italia Praia Shopping - Rua Júlio de Castilhos\, 477\, Torres\, RS\, 95560-000\, Brazil
CATEGORIES:Exposição
ATTACH;FMTTYPE=image/jpeg:https://cineclubetorres.org/wp-content/uploads/2025/11/0555-P-Copy.jpg
ORGANIZER;CN="Cineclube Torres":MAILTO:contato@cineclubetorres.org
END:VEVENT
BEGIN:VEVENT
DTSTART;TZID=America/Sao_Paulo:20251124T200000
DTEND;TZID=America/Sao_Paulo:20251124T220000
DTSTAMP:20260423T201412
CREATED:20251102T210320Z
LAST-MODIFIED:20260126T141321Z
UID:2298-1764014400-1764021600@cineclubetorres.org
SUMMARY:Visages\, villages
DESCRIPTION:“Visages\, villages” de Agnès Varda e JR | 2017 | França | A cineasta Agnès Varda e o artista JR formam uma dupla dinâmica. A paixão deles por imagens\, e como elas são compartilhadas\, são o ponto de partida de uma viagem divertida pela França.
URL:https://cineclubetorres.org/sessoes/visages-villages/
LOCATION:Sala Audiovisual Gilda e Leonardo\, Rua Cincinato Borges\, 420\, Torres\, Rio Grande do Sul\, 95560-000\, Brazil
CATEGORIES:Filme
ATTACH;FMTTYPE=image/webp:https://cineclubetorres.org/wp-content/uploads/2025/10/image-w1280.webp
ORGANIZER;CN="Cineclube Torres":MAILTO:contato@cineclubetorres.org
END:VEVENT
END:VCALENDAR