BEGIN:VCALENDAR
VERSION:2.0
PRODID:-//Cineclube Torres - ECPv6.15.19//NONSGML v1.0//EN
CALSCALE:GREGORIAN
METHOD:PUBLISH
X-WR-CALNAME:Cineclube Torres
X-ORIGINAL-URL:https://cineclubetorres.org
X-WR-CALDESC:Eventos para Cineclube Torres
REFRESH-INTERVAL;VALUE=DURATION:PT1H
X-Robots-Tag:noindex
X-PUBLISHED-TTL:PT1H
BEGIN:VTIMEZONE
TZID:America/Sao_Paulo
BEGIN:STANDARD
TZOFFSETFROM:-0300
TZOFFSETTO:-0300
TZNAME:-03
DTSTART:20240101T000000
END:STANDARD
END:VTIMEZONE
BEGIN:VEVENT
DTSTART;TZID=America/Sao_Paulo:20251201T200000
DTEND;TZID=America/Sao_Paulo:20251201T220000
DTSTAMP:20260423T184741
CREATED:20251229T191411Z
LAST-MODIFIED:20251229T191449Z
UID:2368-1764619200-1764626400@cineclubetorres.org
SUMMARY:2ª Mostra Mercosul Audiovisual
DESCRIPTION:2ª Mostra Mercosul Audiovisual | Curtametragens Latinos | sessão de curtas para o público em geral com o tema “Territórios e Paisagens em Transformação”\, com produções de países do Mercosul: Brasil\, Argentina\, Colômbia e Paraguai. A curadoria geral da Mostra selecionou seis produções que atravessam memórias\, resistências e identidades regionais.
URL:https://cineclubetorres.org/sessoes/2a-mostra-mercosul-audiovisual/
LOCATION:Sala Audiovisual Gilda e Leonardo\, Rua Cincinato Borges\, 420\, Torres\, Rio Grande do Sul\, 95560-000\, Brazil
CATEGORIES:Curtas
ATTACH;FMTTYPE=image/jpeg:https://cineclubetorres.org/wp-content/uploads/2025/11/image.jpeg
ORGANIZER;CN="Cineclube Torres":MAILTO:contato@cineclubetorres.org
END:VEVENT
END:VCALENDAR