BEGIN:VCALENDAR
VERSION:2.0
PRODID:-//Cineclube Torres - ECPv6.15.19//NONSGML v1.0//EN
CALSCALE:GREGORIAN
METHOD:PUBLISH
X-WR-CALNAME:Cineclube Torres
X-ORIGINAL-URL:https://cineclubetorres.org
X-WR-CALDESC:Eventos para Cineclube Torres
REFRESH-INTERVAL;VALUE=DURATION:PT1H
X-Robots-Tag:noindex
X-PUBLISHED-TTL:PT1H
BEGIN:VTIMEZONE
TZID:America/Sao_Paulo
BEGIN:STANDARD
TZOFFSETFROM:-0300
TZOFFSETTO:-0300
TZNAME:-03
DTSTART:20250101T000000
END:STANDARD
END:VTIMEZONE
BEGIN:VEVENT
DTSTART;TZID=America/Sao_Paulo:20260202T210000
DTEND;TZID=America/Sao_Paulo:20260202T220000
DTSTAMP:20260423T154611
CREATED:20260204T210107Z
LAST-MODIFIED:20260204T210124Z
UID:2392-1770066000-1770069600@cineclubetorres.org
SUMMARY:Tanta Água
DESCRIPTION:“Tanta Água” de Ana Guevara e Leticia Jorge Romero | 2013 | Uruguai |  Nas férias de verão\, Alberto e seus dois filhos viajam para um parque termal. Essa é a oportunidade que ele tem de se reaproximar deles\, com os quais não convive desde que se separou da esposa.
URL:https://cineclubetorres.org/sessoes/2392/
LOCATION:Sala Audiovisual Gilda e Leonardo\, Rua Cincinato Borges\, 420\, Torres\, Rio Grande do Sul\, 95560-000\, Brazil
CATEGORIES:Filme
ATTACH;FMTTYPE=image/jpeg:https://cineclubetorres.org/wp-content/uploads/2026/02/tanta-agua.jpg
ORGANIZER;CN="Cineclube Torres":MAILTO:contato@cineclubetorres.org
END:VEVENT
BEGIN:VEVENT
DTSTART;TZID=America/Sao_Paulo:20260209T200000
DTEND;TZID=America/Sao_Paulo:20260209T220000
DTSTAMP:20260423T154611
CREATED:20260204T210521Z
LAST-MODIFIED:20260204T210823Z
UID:2396-1770667200-1770674400@cineclubetorres.org
SUMMARY:Climas
DESCRIPTION:“Climas” de Enrica Pérez | 2015 | Peru | Três mulheres desconhecidas entre si têm suas histórias influenciadas pelo clima do local que habitam\, compartilhando uma série de semelhanças e angústias.
URL:https://cineclubetorres.org/sessoes/climas/
LOCATION:Sala Audiovisual Gilda e Leonardo\, Rua Cincinato Borges\, 420\, Torres\, Rio Grande do Sul\, 95560-000\, Brazil
CATEGORIES:Filme
ATTACH;FMTTYPE=image/jpeg:https://cineclubetorres.org/wp-content/uploads/2026/02/climas-pelicula.jpg
ORGANIZER;CN="Cineclube Torres":MAILTO:contato@cineclubetorres.org
END:VEVENT
BEGIN:VEVENT
DTSTART;TZID=America/Sao_Paulo:20260216T200000
DTEND;TZID=America/Sao_Paulo:20260216T220000
DTSTAMP:20260423T154611
CREATED:20260212T212740Z
LAST-MODIFIED:20260212T212740Z
UID:2405-1771272000-1771279200@cineclubetorres.org
SUMMARY:O Homem do Futuro
DESCRIPTION:“O Homem do Futuro” de Felipe Ríos | 2019 | Chile | Michelsen\, um caminhoneiro idoso\, parte em sua última viagem de carga para o extremo sul da Patagônia chilena. A longa e árdua viagem pela magnífica e luxuriante paisagem natural\, passando por lagos e extensas geleiras\, acaba se tornando uma recapitulação de sua vida quando ele inesperadamente encontra sua filha adulta\, que ele não vê desde quando ela era criança.
URL:https://cineclubetorres.org/sessoes/o-homem-do-futuro/
LOCATION:Sala Audiovisual Gilda e Leonardo\, Rua Cincinato Borges\, 420\, Torres\, Rio Grande do Sul\, 95560-000\, Brazil
CATEGORIES:Filme
ATTACH;FMTTYPE=image/jpeg:https://cineclubetorres.org/wp-content/uploads/2026/02/Critica-El-Hombre-del-Futuro-Felipe-Rios.jpg
ORGANIZER;CN="Cineclube Torres":MAILTO:contato@cineclubetorres.org
END:VEVENT
BEGIN:VEVENT
DTSTART;TZID=America/Sao_Paulo:20260222T150000
DTEND;TZID=America/Sao_Paulo:20260222T170000
DTSTAMP:20260423T154611
CREATED:20260212T213909Z
LAST-MODIFIED:20260212T213943Z
UID:2411-1771772400-1771779600@cineclubetorres.org
SUMMARY:Ato Unificado em Defesa do Litoral Norte
DESCRIPTION:O Movimento Unificado em Defesa do Litoral Norte Gaúcho e entidades parceiras\, entre as quais o Cineclube Torres\, convidam a comunidade de todo litoral norte e do estado para o Ato Unificado em Defesa do Litoral Norte\, no Parque da Guarita.
URL:https://cineclubetorres.org/sessoes/ato-unificado-em-defesa-do-litoral-norte/
LOCATION:Parque Estadual José Lutzenberger – Parque da Guarita\, Calçadão Praia da Cal\, 342\, Torres\, RS\, Rio Grande do Sul\, 95560-000\, Brazil
CATEGORIES:Encontro
ATTACH;FMTTYPE=image/jpeg:https://cineclubetorres.org/wp-content/uploads/2026/02/b9caf205-c811-4188-b1cf-0f8b7f90e058.jpg
ORGANIZER;CN="Cineclube Torres":MAILTO:contato@cineclubetorres.org
END:VEVENT
BEGIN:VEVENT
DTSTART;TZID=America/Sao_Paulo:20260223T200000
DTEND;TZID=America/Sao_Paulo:20260223T220000
DTSTAMP:20260423T154611
CREATED:20260212T213119Z
LAST-MODIFIED:20260212T213347Z
UID:2408-1771876800-1771884000@cineclubetorres.org
SUMMARY:Tantas Almas
DESCRIPTION:“Tantas Almas” de Nicolás Rincón Gille | 2019 | Colômbia | Um pescador atravessa o maior rio da Colômbia em busca dos corpos de seus dois filhos\, assassinados por paramilitares\, determinado a impedir que permaneçam como almas errantes. Em sua jornada\, ele revela a magia de um país despedaçado.
URL:https://cineclubetorres.org/sessoes/tantas-almas/
LOCATION:Sala Audiovisual Gilda e Leonardo\, Rua Cincinato Borges\, 420\, Torres\, Rio Grande do Sul\, 95560-000\, Brazil
CATEGORIES:Filme
ATTACH;FMTTYPE=image/jpeg:https://cineclubetorres.org/wp-content/uploads/2026/02/tantas-almas-filme-e1770932013578.jpg
ORGANIZER;CN="Cineclube Torres":MAILTO:contato@cineclubetorres.org
END:VEVENT
END:VCALENDAR