BEGIN:VCALENDAR
VERSION:2.0
PRODID:-//Cineclube Torres - ECPv6.15.19//NONSGML v1.0//EN
CALSCALE:GREGORIAN
METHOD:PUBLISH
X-WR-CALNAME:Cineclube Torres
X-ORIGINAL-URL:https://cineclubetorres.org
X-WR-CALDESC:Eventos para Cineclube Torres
REFRESH-INTERVAL;VALUE=DURATION:PT1H
X-Robots-Tag:noindex
X-PUBLISHED-TTL:PT1H
BEGIN:VTIMEZONE
TZID:America/Sao_Paulo
BEGIN:STANDARD
TZOFFSETFROM:-0300
TZOFFSETTO:-0300
TZNAME:-03
DTSTART:20230101T000000
END:STANDARD
END:VTIMEZONE
BEGIN:VEVENT
DTSTART;TZID=America/Sao_Paulo:20241007T200000
DTEND;TZID=America/Sao_Paulo:20241007T220000
DTSTAMP:20260424T195048
CREATED:20241004T001904Z
LAST-MODIFIED:20241004T224732Z
UID:1887-1728331200-1728338400@cineclubetorres.org
SUMMARY:Até que a Sbórnia nos Separe
DESCRIPTION:Até que a Sbórnia nos Separe | 2013 ‧ Animação/Comédia/Musical ‧ 1h 33m | Diretor: Otto Guerra\, Ennio Torresan Jr | Sbórnia é um pequeno país que sempre viveu isolado do resto do mundo\, cercado por um grande muro que não permite o contato com os vizinhos. Um dia\, no entanto\, um acidente leva à queda da construção\, e logo os sbornianos começam a descobrir os costumes modernos.
URL:https://cineclubetorres.org/sessoes/ate-que-a-sbornia-nos-separe/
LOCATION:Sala Audiovisual Gilda e Leonardo\, Rua Cincinato Borges\, 420\, Torres\, Rio Grande do Sul\, 95560-000\, Brazil
CATEGORIES:Filme
ATTACH;FMTTYPE=image/jpeg:https://cineclubetorres.org/wp-content/uploads/2024/10/sbornia.jpg
ORGANIZER;CN="Cineclube Torres":MAILTO:contato@cineclubetorres.org
END:VEVENT
BEGIN:VEVENT
DTSTART;TZID=America/Sao_Paulo:20241014T200000
DTEND;TZID=America/Sao_Paulo:20241014T220000
DTSTAMP:20260424T195048
CREATED:20241004T010227Z
LAST-MODIFIED:20241031T124715Z
UID:1894-1728936000-1728943200@cineclubetorres.org
SUMMARY:Persepolis
DESCRIPTION:Persepolis | 2007 ‧ Animação/Guerra/Drama ‧ 1h 35m | Diretores: Marjane Satrapi\, Vincent Paronnaud | Uma jovem iraniana que sonha em ser vidente acompanha de perto a queda do Xá e de seu regime brutal. No entanto\, ela acaba se revoltando contra as imposições fundamentalistas dos rebeldes\, especialmente contra as mulheres.
URL:https://cineclubetorres.org/sessoes/persepolis/
LOCATION:Sala Audiovisual Gilda e Leonardo\, Rua Cincinato Borges\, 420\, Torres\, Rio Grande do Sul\, 95560-000\, Brazil
CATEGORIES:Filme
ATTACH;FMTTYPE=image/jpeg:https://cineclubetorres.org/wp-content/uploads/2024/10/PER07.jpg
ORGANIZER;CN="Cineclube Torres":MAILTO:contato@cineclubetorres.org
END:VEVENT
BEGIN:VEVENT
DTSTART;TZID=America/Sao_Paulo:20241021T200000
DTEND;TZID=America/Sao_Paulo:20241021T220000
DTSTAMP:20260424T195048
CREATED:20241004T010803Z
LAST-MODIFIED:20241004T224905Z
UID:1897-1729540800-1729548000@cineclubetorres.org
SUMMARY:O Menino e o Mundo
DESCRIPTION:O Menino e o Mundo | 2013 ‧ Animação/Aventura ‧ 1h 20m | Diretor: Alê Abreu | Um menino mora com os pais em uma pequena cidade do campo. Diante da falta de trabalho\, um dia\, ele vê o pai partindo para a cidade grande. Quando ele sai em busca dele\, acaba encontrando uma sociedade marcada pela pobreza\, exploração de trabalhadores e falta de perspectivas.
URL:https://cineclubetorres.org/sessoes/ale-abreu/
LOCATION:Sala Audiovisual Gilda e Leonardo\, Rua Cincinato Borges\, 420\, Torres\, Rio Grande do Sul\, 95560-000\, Brazil
CATEGORIES:Filme
ATTACH;FMTTYPE=image/jpeg:https://cineclubetorres.org/wp-content/uploads/2024/10/maxresdefault.jpg
ORGANIZER;CN="Cineclube Torres":MAILTO:contato@cineclubetorres.org
END:VEVENT
BEGIN:VEVENT
DTSTART;TZID=America/Sao_Paulo:20241028T193000
DTEND;TZID=America/Sao_Paulo:20241028T220000
DTSTAMP:20260424T195048
CREATED:20241004T011706Z
LAST-MODIFIED:20241031T124708Z
UID:1901-1730143800-1730152800@cineclubetorres.org
SUMMARY:Dia Internacional da Animação
DESCRIPTION:O Dia Internacional da Animação (DIA) é uma Mostra de curtas-metragens de animação com filmes nacionais e internacionais. Exibição da Mostra Nacional\, com seleção de curta metragens de animação nacionais\, e da Mostra Internacional\, com seleção de curtas metragens de animação estrangeiros
URL:https://cineclubetorres.org/sessoes/dia-internacional-da-animacao/
LOCATION:Sala Audiovisual Gilda e Leonardo\, Rua Cincinato Borges\, 420\, Torres\, Rio Grande do Sul\, 95560-000\, Brazil
CATEGORIES:Filme
ATTACH;FMTTYPE=image/jpeg:https://cineclubetorres.org/wp-content/uploads/2024/10/ANIMACAO_MAIOR_EVENTO_SIMULTANEO.jpg
ORGANIZER;CN="Cineclube Torres":MAILTO:contato@cineclubetorres.org
END:VEVENT
END:VCALENDAR