BEGIN:VCALENDAR
VERSION:2.0
PRODID:-//Cineclube Torres - ECPv6.15.19//NONSGML v1.0//EN
CALSCALE:GREGORIAN
METHOD:PUBLISH
X-ORIGINAL-URL:https://cineclubetorres.org
X-WR-CALDESC:Eventos para Cineclube Torres
REFRESH-INTERVAL;VALUE=DURATION:PT1H
X-Robots-Tag:noindex
X-PUBLISHED-TTL:PT1H
BEGIN:VTIMEZONE
TZID:America/Sao_Paulo
BEGIN:STANDARD
TZOFFSETFROM:-0300
TZOFFSETTO:-0300
TZNAME:-03
DTSTART:20240101T000000
END:STANDARD
END:VTIMEZONE
BEGIN:VEVENT
DTSTART;TZID=America/Sao_Paulo:20250331T200000
DTEND;TZID=America/Sao_Paulo:20250331T220000
DTSTAMP:20260424T115352
CREATED:20250203T181146Z
LAST-MODIFIED:20250203T181241Z
UID:2089-1743451200-1743458400@cineclubetorres.org
SUMMARY:Tatuagem
DESCRIPTION:“Tatuagem” | 2013 | BRASIL | Um jovem militar (Jesuíta Barbosa) visita uma comunidade onde vive e atua um familiar\, ficando encantado com o universo criado pela companhia e com seu líder Clécio (Irandhir Santos). Grande história de uma trupe que mesmo durante a ditadura dos anos 70 criou em Recife o “Chão de Estrelas”\, uma equipe de teatro onde vivem o amor livre e a paixão pela arte. Diretor: Hilton Lacerda. \nSessão Especial “31/3 – Ditadura Nunca Mais”
URL:https://cineclubetorres.org/sessoes/tatuagem/
LOCATION:Sala Audiovisual Gilda e Leonardo\, Rua Cincinato Borges\, 420\, Torres\, Rio Grande do Sul\, 95560-000\, Brazil
CATEGORIES:Filme
ATTACH;FMTTYPE=image/jpeg:https://cineclubetorres.org/wp-content/uploads/2025/02/tatuagem02.jpg
ORGANIZER;CN="Cineclube Torres":MAILTO:contato@cineclubetorres.org
END:VEVENT
END:VCALENDAR