BEGIN:VCALENDAR
VERSION:2.0
PRODID:-//Cineclube Torres - ECPv6.15.19//NONSGML v1.0//EN
CALSCALE:GREGORIAN
METHOD:PUBLISH
X-WR-CALNAME:Cineclube Torres
X-ORIGINAL-URL:https://cineclubetorres.org
X-WR-CALDESC:Eventos para Cineclube Torres
REFRESH-INTERVAL;VALUE=DURATION:PT1H
X-Robots-Tag:noindex
X-PUBLISHED-TTL:PT1H
BEGIN:VTIMEZONE
TZID:America/Sao_Paulo
BEGIN:STANDARD
TZOFFSETFROM:-0300
TZOFFSETTO:-0300
TZNAME:-03
DTSTART:20250101T000000
END:STANDARD
END:VTIMEZONE
BEGIN:VEVENT
DTSTART;TZID=America/Sao_Paulo:20260309T200000
DTEND;TZID=America/Sao_Paulo:20260309T220000
DTSTAMP:20260423T182518
CREATED:20260301T151031Z
LAST-MODIFIED:20260301T151031Z
UID:2431-1773086400-1773093600@cineclubetorres.org
SUMMARY:A Melhor Mãe do Mundo
DESCRIPTION:“A Melhor Mãe do Mundo” de Ana Muylaert | 2025 | Brasil | A catadora de recicláveis Gal decide fugir dos abusos do marido Leandro após tentar denunciá-lo e ser ignorada pela polícia. Focada em proteger seus filhos\, a mulher abandona a casa e para garantir a inocência deles\, Gal os faz acreditar que estão vivendo uma grande aventura.
URL:https://cineclubetorres.org/sessoes/a-melhor-mae-do-mundo/
LOCATION:Sala Audiovisual Gilda e Leonardo\, Rua Cincinato Borges\, 420\, Torres\, Rio Grande do Sul\, 95560-000\, Brazil
CATEGORIES:Filme
ATTACH;FMTTYPE=image/webp:https://cineclubetorres.org/wp-content/uploads/2026/03/20250729-a-melhor-mae-do-mundo-filme-papo-de-cinema-e1753831804657-750x416-1.webp
END:VEVENT
END:VCALENDAR