BEGIN:VCALENDAR
VERSION:2.0
PRODID:-//Cineclube Torres - ECPv6.15.19//NONSGML v1.0//EN
CALSCALE:GREGORIAN
METHOD:PUBLISH
X-ORIGINAL-URL:https://cineclubetorres.org
X-WR-CALDESC:Eventos para Cineclube Torres
REFRESH-INTERVAL;VALUE=DURATION:PT1H
X-Robots-Tag:noindex
X-PUBLISHED-TTL:PT1H
BEGIN:VTIMEZONE
TZID:America/Sao_Paulo
BEGIN:STANDARD
TZOFFSETFROM:-0300
TZOFFSETTO:-0300
TZNAME:-03
DTSTART:20250101T000000
END:STANDARD
END:VTIMEZONE
BEGIN:VEVENT
DTSTART;TZID=America/Sao_Paulo:20260316T200000
DTEND;TZID=America/Sao_Paulo:20260316T220000
DTSTAMP:20260423T182625
CREATED:20260301T151628Z
LAST-MODIFIED:20260301T151708Z
UID:2435-1773691200-1773698400@cineclubetorres.org
SUMMARY:O Acontecimento
DESCRIPTION:“O Acontecimento” de Audrey Diwan | 2021 | França | Na França dos anos 1960\, quando o aborto ainda era ilegal no país europeu\, uma jovem trava uma batalha física e emocional para obter acesso ao procedimento\, em uma corrida contra o tempo.
URL:https://cineclubetorres.org/sessoes/o-acontecimento/
LOCATION:Sala Audiovisual Gilda e Leonardo\, Rua Cincinato Borges\, 420\, Torres\, Rio Grande do Sul\, 95560-000\, Brazil
CATEGORIES:Filme
ATTACH;FMTTYPE=image/webp:https://cineclubetorres.org/wp-content/uploads/2026/03/20220705-acontecimento-papo-de-cinema-2-750x500-1-e1772378139136.webp
ORGANIZER;CN="Cineclube Torres":MAILTO:contato@cineclubetorres.org
END:VEVENT
END:VCALENDAR