BEGIN:VCALENDAR
VERSION:2.0
PRODID:-//Cineclube Torres - ECPv6.15.19//NONSGML v1.0//EN
CALSCALE:GREGORIAN
METHOD:PUBLISH
X-ORIGINAL-URL:https://cineclubetorres.org
X-WR-CALDESC:Eventos para Cineclube Torres
REFRESH-INTERVAL;VALUE=DURATION:PT1H
X-Robots-Tag:noindex
X-PUBLISHED-TTL:PT1H
BEGIN:VTIMEZONE
TZID:America/Sao_Paulo
BEGIN:STANDARD
TZOFFSETFROM:-0300
TZOFFSETTO:-0300
TZNAME:-03
DTSTART:20240101T000000
END:STANDARD
END:VTIMEZONE
BEGIN:VEVENT
DTSTART;TZID=America/Sao_Paulo:20250317T200000
DTEND;TZID=America/Sao_Paulo:20250317T220000
DTSTAMP:20260424T115218
CREATED:20250203T180756Z
LAST-MODIFIED:20250203T180756Z
UID:2085-1742241600-1742248800@cineclubetorres.org
SUMMARY:Os Tubarões
DESCRIPTION:“Os Tubarões” | 2019 | URUGUAI | Em uma pequena cidade litorânea relatos de avistamentos de tubarões criam pânico na região. Enquanto isso\, a adolescente Rosina começa a caçar suas próprias presas à medida que sua atração intensa por um colega de trabalho mais velho aumenta. Diretora: Lucia Garibaldi.
URL:https://cineclubetorres.org/sessoes/os-tubaroes/
LOCATION:Sala Audiovisual Gilda e Leonardo\, Rua Cincinato Borges\, 420\, Torres\, Rio Grande do Sul\, 95560-000\, Brazil
CATEGORIES:Filme
ATTACH;FMTTYPE=image/jpeg:https://cineclubetorres.org/wp-content/uploads/2025/02/REV-TheSharks-1.jpg
ORGANIZER;CN="Cineclube Torres":MAILTO:contato@cineclubetorres.org
END:VEVENT
END:VCALENDAR