BEGIN:VCALENDAR
VERSION:2.0
PRODID:-//Cineclube Torres - ECPv6.15.19//NONSGML v1.0//EN
CALSCALE:GREGORIAN
METHOD:PUBLISH
X-WR-CALNAME:Cineclube Torres
X-ORIGINAL-URL:https://cineclubetorres.org
X-WR-CALDESC:Eventos para Cineclube Torres
REFRESH-INTERVAL;VALUE=DURATION:PT1H
X-Robots-Tag:noindex
X-PUBLISHED-TTL:PT1H
BEGIN:VTIMEZONE
TZID:America/Sao_Paulo
BEGIN:STANDARD
TZOFFSETFROM:-0300
TZOFFSETTO:-0300
TZNAME:-03
DTSTART:20240101T000000
END:STANDARD
END:VTIMEZONE
BEGIN:VEVENT
DTSTART;TZID=America/Sao_Paulo:20251013T200000
DTEND;TZID=America/Sao_Paulo:20251013T220000
DTSTAMP:20260424T025714
CREATED:20251014T215328Z
LAST-MODIFIED:20251014T215605Z
UID:2251-1760385600-1760392800@cineclubetorres.org
SUMMARY:No Other Land - Sem Chão
DESCRIPTION:“No Other Land” de Basel Adra\, Yuval Abraham\, Hamdan Ballal\, Rachel Szor | 2024 | Palestina\, Noruega |  O documentário produzido por um coletivo palestino-israelense mostra a destruição de Masafer Yatta por soldados israelenses na Cisjordânia ocupada e a aliança que se desenvolve entre o ativista palestino Basel e o jornalista israelense Yuval.
URL:https://cineclubetorres.org/sessoes/no-other-land-sem-chao/
LOCATION:Sala Audiovisual Gilda e Leonardo\, Rua Cincinato Borges\, 420\, Torres\, Rio Grande do Sul\, 95560-000\, Brazil
CATEGORIES:Filme
ATTACH;FMTTYPE=image/webp:https://cineclubetorres.org/wp-content/uploads/2025/10/2502-No-Other-Land-layout_site.webp
ORGANIZER;CN="Cineclube Torres":MAILTO:contato@cineclubetorres.org
END:VEVENT
BEGIN:VEVENT
DTSTART;TZID=America/Sao_Paulo:20251020T200000
DTEND;TZID=America/Sao_Paulo:20251020T220000
DTSTAMP:20260424T025714
CREATED:20251014T220233Z
LAST-MODIFIED:20251014T220422Z
UID:2254-1760990400-1760997600@cineclubetorres.org
SUMMARY:Farha
DESCRIPTION:“Farha” de Darin Sallam | 2021 | Jordânia | Farha é uma história de amadurecimento e superação de uma garota palestina durante a Nakba\, quando sua aldeia é atacada em razão da fundação de Israel em 1948.
URL:https://cineclubetorres.org/sessoes/2254/
LOCATION:Sala Audiovisual Gilda e Leonardo\, Rua Cincinato Borges\, 420\, Torres\, Rio Grande do Sul\, 95560-000\, Brazil
CATEGORIES:Filme
ATTACH;FMTTYPE=image/jpeg:https://cineclubetorres.org/wp-content/uploads/2025/10/AAAABSH2AF8iiQdbJdsFVEszarL4_vcep0Kfbg4Q3PXPTD1PjpKK-8XqBoTyK5riyVlkTF_pC1GXalC7MfE5b52d1Q4vI6rZGguHllqu.jpg
ORGANIZER;CN="Cineclube Torres":MAILTO:contato@cineclubetorres.org
END:VEVENT
BEGIN:VEVENT
DTSTART;TZID=America/Sao_Paulo:20251027T200000
DTEND;TZID=America/Sao_Paulo:20251027T220000
DTSTAMP:20260424T025714
CREATED:20251014T220833Z
LAST-MODIFIED:20251014T230614Z
UID:2258-1761595200-1761602400@cineclubetorres.org
SUMMARY:Degradé
DESCRIPTION:“Degradé” de Tarzan and Arab Nasser | 2017 | Palestina | O salão de beleza de Christine está lotado. Há uma divorciada amarga\, uma mulher religiosa\, uma lunática viciada em drogas de prescrição\, uma jovem noiva\, entre outras. Mas o dia de lazer é interrompido quando tiros surgem do outro lado da rua.
URL:https://cineclubetorres.org/sessoes/degrade/
LOCATION:Sala Audiovisual Gilda e Leonardo\, Rua Cincinato Borges\, 420\, Torres\, Rio Grande do Sul\, 95560-000\, Brazil
CATEGORIES:Filme
ATTACH;FMTTYPE=image/webp:https://cineclubetorres.org/wp-content/uploads/2025/10/degrade_cannes-film-festival-6.webp
ORGANIZER;CN="Cineclube Torres":MAILTO:contato@cineclubetorres.org
END:VEVENT
END:VCALENDAR